Workbook

Sheet Girls Mile
A1: 2026 Mile
A2: Last Name | B2: First Name | D2: Best | J2: 4-20 SV | K2: 4-15 FC | L2: 4-13 Sh | M2: 4-1 Mars | N2: 3-30 Hamp | O2: 3-27 NH | P2: 3-20 PR | Q2: Tryout
A3: Strelick | B3: Addison | C3: 7 | D3: =+MIN(E3:Q3) -> 537.34 | K3: 537.34 | L3: 550.41 | M3: 542.76 | N3: 551.61
A4: Newton | B4: Natalie | C4: 7 | D4: =+MIN(E4:Q4) -> 545.11 | L4: 602.46 | O4: 545.11 | P4: 545.5 | Q4: 609.04
A5: Ryan | B5: Allison | C5: 8 | D5: =+MIN(E5:Q5) -> 550.26 | K5: 610.64 | M5: 550.26 | O5: 559.18 | Q5: 608.74
A6: Mountain | B6: Nora | C6: 8 | D6: =+MIN(E6:Q6) -> 552.35 | J6: 552.35 | K6: 559.64 | L6: 615.84 | N6: 602.86 | P6: 609.18 | Q6: 619.54
A7: Burgbacher | B7: Sydney | C7: 8 | D7: =+MIN(E7:Q7) -> 552.39 | K7: 557.64 | M7: 552.39 | O7: 601.12 | Q7: 615.24
A8: Smith | B8: Ellie | C8: 8 | D8: =+MIN(E8:Q8) -> 552.7 | J8: 552.7 | K8: . | L8: 604.74 | N8: 556.16 | Q8: 616.24
A9: Gilberti | B9: Lucy | C9: 8 | D9: =+MIN(E9:Q9) -> 556.93 | J9: 556.93 | K9: 600.74 | L9: 601.71 | M9: 603.17 | N9: 601.19 | O9: 610.71 | P9: 610.36 | Q9: 616.04
A10: Schott | B10: Sienna | C10: 7 | D10: =+MIN(E10:Q10) -> 600.05 | O10: 600.05 | Q10: 622.54
A11: Antoszewski | B11: Ava | C11: 7 | D11: =+MIN(E11:Q11) -> 600.14 | K11: 600.14 | M11: 609.16 | N11: 611.99 | O11: 620.82 | Q11: 633.34
A12: Stuart | B12: Raegan | C12: 7 | D12: =+MIN(E12:Q12) -> 604.18 | J12: 604.18 | L12: 621.18 | N12: 606.22 | Q12: 607.44
A13: Coffman | B13: Margaret | C13: 8 | D13: =+MIN(E13:Q13) -> 608.34 | K13: 608.34 | M13: 610.57 | Q13: 618.74
A14: Natali | B14: Taylor | C14: 8 | D14: =+MIN(E14:Q14) -> 612.84 | J14: 632 | L14: 641.91 | O14: 612.84 | P14: 613.01 | Q14: 650.24
A15: Frazer | B15: Mollie | C15: 7 | D15: =+MIN(E15:Q15) -> 622.2 | M15: 622.2 | O15: 623.55 | P15: 636.75 | Q15: 640.34
A16: Yurky | B16: Avalyn | C16: 8 | D16: =+MIN(E16:Q16) -> 632.51 | L16: 632.51 | Q16: 637.14
A17: Hogan | B17: Mira | C17: 8 | D17: =+MIN(E17:Q17) -> 641.04 | Q17: 641.04
A18: Husok | B18: Brooklynn | C18: 7 | D18: =+MIN(E18:Q18) -> 641.74 | Q18: 641.74
A19: Pirring | B19: Kiralay | C19: 8 | D19: =+MIN(E19:Q19) -> 650.94 | Q19: 650.94
A20: Maravich | B20: Avery | C20: 7 | D20: =+MIN(E20:Q20) -> 652.33 | J20: 652.33
A21: Byrne | B21: Josie | C21: 7 | D21: =+MIN(E21:Q21) -> 719.54 | P21: 721.82 | Q21: 719.54
A22: Miller | B22: Claire | C22: 7 | D22: =+MIN(E22:Q22) -> 930.84 | Q22: 930.84
A24: 2025 Mile
A25: Last Name | B25: First Name | D25: Best | E25: 5-10 But Inv | F25: 5-7 Mile | G25: 5-7 NA Inv | H25: 5-5 But | I25: 4-28 SVR | J25: 4-22 SV | K25: 4-15 FC | L25: 4-11 Sh | M25: 4-3 Mars | N25: 3-31 Hamp | O25: 3-20 NH | P25: 3-17 PR | Q25: Tryout
A26: Strelick | B26: Samantha | C26: 8 | D26: =+MIN(E26:Q26) -> 524.04 | H26: 524.04 | I26: 525 | L26: 533.05 | N26: 533.93 | P26: 543.01
A27: Duchi | B27: Annaliese | C27: 8 | D27: =+MIN(E27:Q27) -> 525.5 | F27: 527.21 | G27: 525.5 | H27: 537.69 | I27: 528.2 | J27: 534.47 | K27: 539.72 | M27: 535.76 | N27: 538.93 | O27: 549.6 | P27: 551.73 | Q27: 555.5
A28: Pealer | B28: Alexa | C28: 8 | D28: =+MIN(E28:Q28) -> 536.5 | F28: 538.34 | G28: 536.5 | H28: 543.48 | I28: 540.5 | J28: 546.64 | M28: 603.86 | P28: 604.71 | Q28: 616.2
A29: Richmond | B29: Elizabeth | C29: 8 | D29: =+MIN(E29:Q29) -> 546.34 | E29: 559.05 | H29: 546.34 | I29: 551.7 | J29: 547.94 | L29: 550.96 | N29: 600.33 | O29: 612.27 | Q29: 617.6
A30: Natali | B30: Cailyn | C30: 8 | D30: =+MIN(E30:Q30) -> 548.06 | E30: 548.06 | H30: 557.16 | J30: 558.38 | L30: 602.81 | N30: 613.67 | P30: 618.87 | Q30: 625
A31: Mountain | B31: Nora | C31: 7 | D31: =+MIN(E31:Q31) -> 548.86 | E31: 548.86 | H31: 550.05 | J31: 559.85 | K31: 612.13 | L31: 606.98 | M31: 620.85 | N31: 622.24 | P31: 624.11 | Q31: 639.5
A32: Burgbacher | B32: Sydney | C32: 7 | D32: =+MIN(E32:Q32) -> 553.38 | I32: 558.5 | J32: 553.38 | K32: 610.64 | M32: 608.85 | P32: 628.24 | Q32: 638.7
A33: Romanow | B33: Olivia | C33: 8 | D33: =+MIN(E33:Q33) -> 609.03 | H33: 609.03 | J33: 625.23 | K33: 641.1 | L33: 628.87 | M33: 636.72 | N33: 654.46 | P33: 633.61 | Q33: 701.5
A34: Ryan | B34: Allie | C34: 7 | D34: =+MIN(E34:Q34) -> 609.59 | H34: 615.68 | J34: 609.59 | L34: 623.59 | M34: 611.83 | N34: 617.86 | O34: 622.62 | P34: 637.35 | Q34: 629.9
A35: Gilberti | B35: Lucy | C35: 7 | D35: =+MIN(E35:Q35) -> 613.93 | H35: 613.93 | J35: 619.07 | K35: 635.35 | L35: 630.5 | M35: 627.68 | N35: 631.75 | O35: 637.96 | P35: 645.57 | Q35: 641.2
A36: Ansell | B36: Ainsley | C36: 7 | D36: =+MIN(E36:Q36) -> 614.82 | H36: 614.82 | K36: 634.44
A37: Pirring | B37: Kiralay | C37: 7 | D37: =+MIN(E37:Q37) -> 618.42 | H37: 618.42 | J37: 622.25 | K37: 639.09 | L37: 625.93 | M37: 625.36 | N37: 636.08 | P37: 641.55 | Q37: 703.7
A38: Smith | B38: Ellie | C38: 7 | D38: =+MIN(E38:Q38) -> 621.54 | K38: 621.54 | N38: 624.21 | O38: 629.44 | P38: 638.25 | Q38: 634.4
A39: Singer | B39: Quinn | C39: 8 | D39: =+MIN(E39:Q39) -> 627.24 | H39: 629.83 | J39: 627.24 | M39: 638.23 | N39: 644.7 | O39: 649.76 | Q39: 652
A40: Coffman | B40: Margaret | C40: 7 | D40: =+MIN(E40:Q40) -> 638.96 | H40: 638.96 | K40: 643.86 | N40: 650.75 | Q40: 641.8
A41: Si | B41: Hannah | C41: 8 | D41: =+MIN(E41:Q41) -> 647.45 | K41: 647.45 | M41: 648.2 | N41: 656.57 | Q41: 707.2
...

Sheet Boys Mile
A1: 2026 Mile
A2: Last Name | B2: First Name | D2: Best | J2: 4-20 SV | K2: 4-15 FC | L2: 4-13 Sh | M2: 4-1 Mars | N2: 3-30 Hamp | O2: 3-27 NH | P2: 3-20 PR | Q2: Tryout
A3: Deitch | B3: Bryson | C3: 8 | D3: =+MIN(E3:Q3) -> 503.15 | J3: 503.15 | L3: 510.12 | N3: 509.52 | O3: 527.94 | P3: 532.85 | Q3: 543.94
A4: Christian | B4: James | C4: 8 | D4: =+MIN(E4:Q4) -> 509.69 | K4: 518.24 | L4: 519.45 | N4: 509.69 | P4: 513.26 | Q4: 522.64
A5: Pathuri | B5: Vinurudh Sai | C5: 8 | D5: =+MIN(E5:Q5) -> 520.24 | K5: 520.24 | L5: 530.92 | M5: 532.04 | N5: 525.23 | O5: 540.29 | P5: 533.82
A6: Intini | B6: Ian | C6: 8 | D6: =+MIN(E6:Q6) -> 527.75 | N6: 527.75 | Q6: 540.24
A7: Peters | B7: Owen | C7: 8 | D7: =+MIN(E7:Q7) -> 534.64 | M7: 539.02 | N7: 535.47 | O7: 536 | P7: 534.64 | Q7: 539.94
A8: Kaminski | B8: Bennett | C8: 7 | D8: =+MIN(E8:Q8) -> 535.24 | J8: 601.55 | K8: 535.24 | L8: 558.61 | N8: 546.16 | O8: 543.64 | P8: 602.17 | Q8: 609.54
A9: Grabowski | B9: Grant | C9: 8 | D9: =+MIN(E9:Q9) -> 535.94 | J9: 535.94 | K9: 537.24 | Q9: 542.24
A10: Schomburg | B10: Gavin | C10: 8 | D10: =+MIN(E10:Q10) -> 537.97 | N10: 544.22 | O10: 537.97 | P10: 547.73 | Q10: 541.64
A11: Paylo | B11: James | C11: 7 | D11: =+MIN(E11:Q11) -> 539.24 | K11: 539.24 | M11: 544.36 | O11: 545.06 | P11: 557.28 | Q11: 604.84
A12: Thearle | B12: Bennett | C12: 8 | D12: =+MIN(E12:Q12) -> 545.41 | J12: 551.82 | K12: 549.24 | M12: 545.41 | N12: 554.74
A13: Kozelnik | B13: Fletcher | C13: 7 | D13: =+MIN(E13:Q13) -> 546.63 | N13: 552.97 | O13: 546.63 | P13: 606.1 | Q13: 606.84
A14: Kucler | B14: Greyson | C14: 8 | D14: =+MIN(E14:Q14) -> 548.24 | K14: 548.24 | Q14: 553.04
A15: Stern | B15: Andrei | C15: 7 | D15: =+MIN(E15:Q15) -> 548.41 | J15: 602.3 | K15: 602.24 | M15: 555.86 | O15: 548.41 | P15: 606.71 | Q15: 616.04
A16: Houser | B16: Drew | C16: 7 | D16: =+MIN(E16:Q16) -> 549.29 | J16: 601.79 | L16: 618.86 | M16: 549.29 | N16: 556.47 | O16: 549.98 | P16: 602.29 | Q16: 611.74
A17: Handron | B17: Canor | C17: 7 | D17: =+MIN(E17:Q17) -> 557.24 | J17: 602.6 | K17: 557.24 | N17: 600.94
A18: Moschetta | B18: William | C18: 7 | D18: =+MIN(E18:Q18) -> 558.92 | J18: 558.92 | K18: 611.24 | L18: 619.71 | N18: 613.58 | Q18: 633.64
A19: Palled | B19: Navik | C19: 8 | D19: =+MIN(E19:Q19) -> 604.06 | J19: 604.06 | K19: 616.24 | L19: 623.7 | M19: 606.7 | N19: 612.61 | Q19: 638.74
A20: Webber-Plank | B20: Andrew | C20: 7 | D20: =+MIN(E20:Q20) -> 605.2 | J20: 605.2 | L20: 609.03 | N20: 610.47 | P20: 615.15 | Q20: 628.54
A21: McManus | B21: Jasper | C21: 8 | D21: =+MIN(E21:Q21) -> 606.65 | J21: 620.87 | M21: 606.65 | N21: 623.32 | P21: 630.24
A22: Tseng | B22: Gabriel | C22: 7 | D22: =+MIN(E22:Q22) -> 607.37 | L22: 607.37 | N22: 609.86 | P22: 626.28 | Q22: 627.64
A23: Theys | B23: Lincoln | C23: 7 | D23: =+MIN(E23:Q23) -> 624.57 | J23: 625.67 | K23: 625.24 | L23: 632.66 | M23: 624.57 | N23: 625.47 | Q23: 641.94
A24: Li | B24: Xin | C24: 8 | D24: =+MIN(E24:Q24) -> 634.26 | P24: 634.26 | Q24: 636.64
A25: Thottempudi | B25: Moksh | C25: 8 | D25: =+MIN(E25:Q25) -> 659.04 | Q25: 659.04
A26: Kitzes | B26: Eli | C26: 7 | D26: =+MIN(E26:Q26) -> 733.74 | Q26: 733.74
A27: West | B27: Nolan | C27: 7 | D27: =+MIN(E27:Q27) -> 824.24 | Q27: 824.24
A32: 2025 Mile
A33: Last Name | B33: First Name | D33: Best | E33: 5-10 But Inv | F33: 5-7 Mile | G33: 5-7 NA Inv | H33: 5-5 But | I33: 4-28 SVR | J33: 4-22 SV | K33: 4-15 FC | L33: 4-11 Sh | M33: 4-3 Mars | N33: 3-31 Hamp | O33: 3-20 NH | P33: 3-17 PR | Q33: Tryout
A34: Hirwani | B34: Gatik | C34: 8 | D34: =+MIN(E34:Q34) -> 432.48 | E34: 432.48 | F34: 440.79 | G34: 439.2 | H34: 435.96 | I34: 442.4 | K34: 452.23 | L34: 446.81 | M34: 449.32 | N34: 453.47 | O34: 455.08 | P34: 503.24 | Q34: 501.8
A35: Clarkson | B35: Colin | C35: 8 | D35: =+MIN(E35:Q35) -> 454.05 | E35: 454.05 | F35: 458.33 | G35: 456.7 | H35: 457.8 | I35: 500.5 | J35: 500.53 | K35: 507.07 | M35: 457.86 | N35: 502.91 | O35: 511.56 | P35: 519.64 | Q35: 528.7
A36: Sturzinger | B36: Dominic | C36: 8 | D36: =+MIN(E36:Q36) -> 509.36 | E36: 519 | H36: 509.36 | K36: 546.52 | L36: 536.65 | O36: 534.83 | Q36: 551.7
A37: Kerzmann | B37: Holden | C37: 8 | D37: =+MIN(E37:Q37) -> 526.4 | I37: 526.4 | J37: 534.77 | L37: 539.22 | N37: 543 | P37: 553.75 | Q37: 554.7
A38: Verma | B38: Moksh | C38: 8 | D38: =+MIN(E38:Q38) -> 531.21 | H38: 532.79 | I38: 534 | J38: 539.41 | K38: 548.99 | L38: 536.76 | M38: 531.21 | N38: 541.42 | O38: 558.98 | P38: 603.95 | Q38: 601.7
A39: Christian | B39: James | C39: 7 | D39: =+MIN(E39:Q39) -> 531.54 | H39: 531.54 | Q39: 536
A40: Clark | B40: Evan | C40: 8 | D40: =+MIN(E40:Q40) -> 532.66 | H40: 548.83 | I40: 547.9 | K40: 549.93 | L40: 541.92 | M40: 532.66 | N40: 552.01 | P40: 610.63 | Q40: 600.7
A41: Hartner | B41: Mason | C41: 8 | D41: =+MIN(E41:Q41) -> 535.27 | J41: 535.27 | K41: 538.62 | L41: 536.35 | O41: 540.91 | P41: 549.87 | Q41: 558.8
A42: Peters | B42: Owen | C42: 7 | D42: =+MIN(E42:Q42) -> 540.21 | J42: 545.73 | K42: 610.8 | L42: 548.87 | M42: 540.21 | N42: 554.19 | O42: 604.77 | Q42: 603
A43: Walters | B43: Wesley | C43: 7 | D43: =+MIN(E43:Q43) -> 540.47 | H43: 548.42 | J43: 540.47 | L43: 550.88 | N43: 548.48
A44: Pak | B44: Jordan | C44: 8 | D44: =+MIN(E44:Q44) -> 543.65 | L44: 543.65 | N44: 559.55 | O44: 558.5 | Q44: 557
...

Sheet Girls 2 Mile
A1: 2026 2 Mile
A2: Last Name | B2: First Name | D2: Best | J2: 4-20 SV | K2: 4-15 FC | L2: 4-13 Sh | M2: 4-1 Mars | N2: 3-30 Hamp | O2: 3-27 NH | P2: 3-20 PR | Q2: Tryout
A3: Burgbacher | B3: Sydney | C3: 8 | D3: =+MIN(E3:Q3) -> 1231.54 | J3: 1231.54 | L3: 1253.24 | N3: 1240.88 | P3: 1251.95 | Q3: 1337.28
A4: Antoszewski | B4: Ava | C4: 7 | D4: =+MIN(E4:Q4) -> 1243.93 | J4: 1243.93 | L4: 1331.96
A5: Ryan | B5: Allison | C5: 8 | D5: =+MIN(E5:Q5) -> 1251.32 | J5: 1309.78 | L5: 1308.55 | N5: 1251.32 | P5: 1259.16 | Q5: 1346.48
A6: Smith | B6: Ellie | C6: 8 | D6: =+MIN(E6:Q6) -> 1252.07 | K6: 1315.64 | M6: 1252.07 | O6: 1303.32
A7: Coffman | B7: Margaret | C7: 8 | D7: =+MIN(E7:Q7) -> 1252.55 | J7: 1252.55 | L7: 1313.39 | N7: 1302.05 | Q7: 1335.38
A8: Stuart | B8: Raegan | C8: 7 | D8: =+MIN(E8:Q8) -> 1327.87 | K8: 1405.54 | M8: 1327.87 | Q8: 1357.58
A9: Yurky | B9: Avalyn | C9: 8 | D9: =+MIN(E9:Q9) -> 1331.6 | J9: 1337.35 | K9: 1335.64 | M9: 1331.65 | N9: 1339.94 | O9: 1331.6 | P9: 1357.96 | Q9: 1424.48
A10: Frazer | B10: Mollie | C10: 7 | D10: =+MIN(E10:Q10) -> 1332.31 | J10: 1352.59 | K10: 1428.94 | L10: 1459.72 | N10: 1332.31
A11: Gilberti | B11: Lucienne | C11: 8 | D11: =+MIN(E11:Q11) -> 1400.68 | Q11: 1400.68
A13: 2025 2 Mile
A14: Last Name | B14: First Name | D14: Best | E14: 5-10 But Inv | F14: 5-7 2-Mile | G14: 5-7 NA Inv | H14: 5-5 But | I14: 4-22 SV | J14: 4-15 FC | K14: 4-11 Sh | L14: 4-3 Mars | M14: 3-31 Hamp | N14: 3-20 NH | O14: 3-17 PR | P14: Tryout
A15: Strelick | B15: Samantha | C15: 8 | D15: =+MIN(E15:P15) -> 1116.67 | E15: 1116.67 | F15: 1127.4 | G15: 1124 | I15: 1123.32 | J15: 1146.5 | L15: 1146.55 | N15: 1210.55
A16: Burgbacher | B16: Sydney | C16: 7 | D16: =+MIN(E16:P16) -> 1234.1 | E16: 1235.34 | F16: 1237.72 | G16: 1234.1 | H16: 1240.01 | K16: 1254.41 | M16: 1344.42 | P16: 1434.8
A17: Smith | B17: Ellie | C17: 7 | D17: =+MIN(E17:P17) -> 1242.09 | E17: 1243.12 | H17: 1253.6 | I17: 1242.09 | K17: 1255.27 | L17: 1316.81
A18: Richmond | B18: Elizabeth | C18: 8 | D18: =+MIN(E18:P18) -> 1259.29 | J18: 1259.29 | L18: 1345.64 | O18: 1322.44 | P18: 1353.3
A19: Natali | B19: Cailyn | C19: 8 | D19: =+MIN(E19:P19) -> 1317.97 | J19: 1317.97 | L19: 1337.53 | N19: 1335.86
A20: Coffman | B20: Margaret | C20: 7 | D20: =+MIN(E20:P20) -> 1335.28 | I20: 1357.09 | L20: 1335.28 | N20: 1347.43 | O20: 1426.58 | P20: 1433.1
A21: Yurky | B21: Avalyn | C21: 7 | D21: =+MIN(E21:P21) -> 1357.15 | H21: 1407.44 | I21: 1426.37 | K21: 1357.15 | L21: 1403.75 | M21: 1429.9 | N21: 1451.77 | O21: 1435.06 | P21: 1540.5
A22: Mountain | B22: Nora | C22: 7 | D22: =+MIN(E22:P22) -> 1357.63 | N22: 1357.63
A23: Pirring | B23: Kiralay | C23: 7 | D23: =+MIN(E23:P23) -> 1437.97 | N23: 1437.97 | P23: 1531
A27: 2024 2 Mile
A28: Last Name | B28: First Name | D28: Best | E28: 5-10 But Inv | F28: 5-8 2-Mile | G28: 5-8 NA Inv | H28: 5-6 @But | I28: 4-25 Shaler | J28: 4-22 @FC | K28: 4-18 SV | L28: 4-15 Ha | M28: 4-4 Hi | N28: 3-21 @NH | O28: 3-15 PR | P28: Tryout
A29: Strelick | B29: Samantha | C29: 7 | D29: =+MIN(E29:P29) -> 1138.42 | E29: 1138.42 | F29: 1157.03 | G29: 1153.52 | I29: 1146.82 | K29: 1151 | L29: 1212.77 | N29: 1217.3 | O29: 1223 | P29: 1241.9
A30: Keiser | B30: Madelyn | C30: 7 | D30: =+MIN(E30:P30) -> 1252.85 | E30: 1252.85 | F30: 1311.58 | G30: 1307.89 | H30: 1300.71 | J30: 1306.5 | K30: 1312.96 | L30: 1321.53
A31: Lucas | B31: Mary | C31: 8 | D31: =+MIN(E31:P31) -> 1255 | J31: 1255
A32: Nocera | B32: Leila | C32: 8 | D32: =+MIN(E32:P32) -> 1301.51 | E32: 1301.51 | I32: 1303.67 | J32: 1312 | K32: 1313.16 | L32: 1342.42 | M32: 1414.22 | N32: 1449.1 | O32: 1434.3 | P32: 1447
A33: Natali | B33: Cailyn | C33: 7 | D33: =+MIN(E33:P33) -> 1338.1 | H33: 1346.36 | J33: 1343.7 | L33: 1356.91 | N33: 1419.2 | O33: 1338.1 | P33: 1346.7
A34: Dyga | B34: Evangeline | C34: 7 | D34: =+MIN(E34:P34) -> 1401.95 | H34: 1505.34 | I34: 1401.95 | J34: 1417.4 | K34: 1426.79 | L34: 1456.28 | M34: 1509.13
A35: Richmond | B35: Elizabeth | C35: 7 | D35: =+MIN(E35:P35) -> 1416.3 | J35: 1416.3 | P35: 1446.7
A36: Rempe | B36: Gabrielle | C36: 8 | D36: =+MIN(E36:P36) -> 1448.3 | K36: 1454.32 | L36: 1458.89 | M36: 1515.32 | N36: 1504.3 | O36: 1504.9 | P36: 1448.3
D37: =+MIN(E37:P37) -> 0
A38: 2023 2 Mile
A39: Last Name | B39: First Name | C39: Grade | D39: Best | E39: 5-12 @BI | F39: 5-10 NA Inv | G39: 5-4 But | H39: 4-27 @PR | I39: 4-24 FC | J39: 4-20 SV | K39: 4-18 TT | L39: 4-12 @Sh | M39: 4-10 Ha/WH | N39: 3-28 Hi | O39: 3-21 NH | P39: Tryout
A40: Lucas | B40: Mary | C40: 7 | D40: =+MIN(E40:P40) -> 1206.3 | G40: 1206.3 | I40: 1237.9 | K40: 1226.8 | M40: 1227.7 | P40: 1326.3
A41: Grabowski | B41: Ally | C41: 7 | D41: =+MIN(E41:P41) -> 1208.6 | E41: 1217.71 | F41: 1213.55 | G41: 1208.6 | J41: 1241
A42: Ries | B42: Lily | C42: 8 | D42: =+MIN(E42:P42) -> 1213.67 | E42: 1213.67 | H42: 1215.75 | N42: 1237.1 | P42: 1226.8
A43: Tengowski | B43: Julia | C43: 8 | D43: =+MIN(E43:P43) -> 1239.67 | E43: 1320.36 | F43: 1241.66 | G43: 1256.1 | H43: 1239.67 | J43: 1300.8 | K43: 1250.1 | L43: 1304.63 | M43: 1310.1 | N43: 1305.1 | O43: 1304.7
A44: Pizon | B44: Gabriela | C44: 8 | D44: =+MIN(E44:P44) -> 1311.2 | G44: 1311.2 | I44: 1327.7 | L44: 1324.34 | M44: 1344.6 | N44: 1345.6 | O44: 1337.3
...

Sheet Boys 2 Mile
A1: 2026 2 Mile
A2: Last Name | B2: First Name | D2: Best | J2: 4-20 SV | K2: 4-15 FC | L2: 4-13 Sh | M2: 4-1 Mars | N2: 3-30 Hamp | O2: 3-27 NH | P2: 3-20 PR | Q2: Tryout
A3: Christian | B3: James | C3: 8 | D3: =+MIN(E3:Q3) -> 1054.9 | J3: 1109.54 | M3: 1054.9 | O3: 1117.61 | Q3: 1203.04
A4: Deitch | B4: Bryson | C4: 8 | D4: =+MIN(E4:Q4) -> 1137.49 | K4: 1154.94 | M4: 1137.49
A5: Intini | B5: Ian | C5: 8 | D5: =+MIN(E5:Q5) -> 1145.06 | J5: 1145.1 | K5: 1157.54 | M5: 1145.06 | O5: 1210.47 | P5: 1218.21 | Q5: 1217.44
A6: Grabowski | B6: Grant | C6: 8 | D6: =+MIN(E6:Q6) -> 1158.71 | L6: 1225.2 | M6: 1158.71 | O6: 1159.19
A7: Kucler | B7: Greyson | C7: 8 | D7: =+MIN(E7:Q7) -> 1219.61 | N7: 1219.61 | O7: 1241.53 | P7: 1226.06 | Q7: 1326.34
A8: Paylo | B8: James | C8: 7 | D8: =+MIN(E8:Q8) -> 1248.09 | L8: 1258.74 | N8: 1248.09
A9: Stern | B9: Andrei | C9: 7 | D9: =+MIN(E9:Q9) -> 1255.94 | N9: 1255.94
A10: Tseng | B10: Gabriel | C10: 7 | D10: =+MIN(E10:Q10) -> 1302.74 | K10: 1302.74 | M10: 1304.41 | O10: 1311.4 | Q10: 1442.24
A11: Webber-Plank | B11: Andrew | C11: 7 | D11: =+MIN(E11:Q11) -> 1303.95 | K11: 1325.04 | M11: 1303.95 | O11: 1314.95 | Q11: 1420.44
A12: Houser | B12: Drew | C12: 7 | D12: =+MIN(E12:Q12) -> 1331.64 | K12: 1331.64
A13: Thottempudi | B13: Moksh | C13: 8 | D13: =+MIN(E13:Q13) -> 1558.34 | Q13: 1558.34
A14: Malapaka | B14: Saibhargav | C14: 7 | D14: =+MIN(E14:Q14) -> 1625.54 | Q14: 1625.54
A15: Kitzes | B15: Eli | C15: 7 | D15: =+MIN(E15:Q15) -> 1743.14 | Q15: 1743.14
A18: 2025 2 Mile
A19: Last Name | B19: First Name | D19: Best | E19: 5-10 But Inv | F19: 5-7 2-Mile | G19: 5-7 NA Inv | H19: 5-5 But | I19: 4-22 SV | J19: 4-15 FC | K19: 4-11 Sh | L19: 4-3 Mars | M19: 3-31 Hamp | N19: 3-20 NH | O19: 3-17 PR | P19: Tryout
A20: Hirwani | B20: Gatik | C20: 8 | D20: =+MIN(E20:P20) -> 1006.5 | E20: 1006.5 | I20: 1015.61 | K20: 1047.91
A21: Clarkson | B21: Colin | C21: 8 | D21: =+MIN(E21:P21) -> 1057.05 | E21: 1120.16 | K21: 1057.05
A22: Christian | B22: James | C22: 7 | D22: =+MIN(E22:P22) -> 1120.09 | E22: 1149.33 | F22: 1414.04 | G22: 1409.5 | I22: 1127.88 | J22: 1127.08 | K22: 1131.35 | L22: 1120.09 | M22: 1128.13 | N22: 1131.96 | O22: 1127.34 | P22: 1154.3
A23: Sturzinger | B23: Dominic | C23: 8 | D23: =+MIN(E23:P23) -> 1134.7 | F23: 1138.31 | G23: 1134.7 | O23: 1215.99 | P23: 1257.5
A24: Kerzmann | B24: Holden | C24: 8 | D24: =+MIN(E24:P24) -> 1151.56 | H24: 1151.56 | J24: 1212.33 | L24: 1158 | N24: 1224.77 | P24: 1302.9
A25: Grabowski | B25: Grant | C25: 7 | D25: =+MIN(E25:P25) -> 1221.28 | H25: 1221.28 | K25: 1237.51 | L25: 1237.16 | M25: 1245.89 | O25: 1233.81 | P25: 1317.5
A26: Walters | B26: Wesley | C26: 7 | D26: =+MIN(E26:P26) -> 1234.23 | J26: 1237.86 | L26: 1237.42 | N26: 1318.98 | O26: 1234.23 | P26: 1316.9
A27: Spence | B27: Jesse | C27: 8 | D27: =+MIN(E27:P27) -> 1239.67 | I27: 1239.67 | L27: 1254.46 | M27: 1240.62 | N27: 1301.05 | P27: 1333
A28: Clark | B28: Evan | C28: 8 | D28: =+MIN(E28:P28) -> 1246.09 | N28: 1246.09 | P28: 1304.9
A29: Pandey | B29: Samanyu | C29: 7 | D29: =+MIN(E29:P29) -> 1252.01 | H29: 1315.05 | I29: 1252.01 | J29: 1311.53 | K29: 1322.26 | L29: 1331.23 | M29: 1339.3 | P29: 1342.2
A30: Sowa | B30: James | C30: 7 | D30: =+MIN(E30:P30) -> 1252.8 | H30: 1309.79 | I30: 1252.8 | J30: 1310.82 | K30: 1309.95 | L30: 1332.54 | M30: 1327.09 | P30: 1416.7
A31: Peters | B31: Owen | C31: 7 | D31: =+MIN(E31:P31) -> 1258.72 | O31: 1258.72 | P31: 1326.8
A32: Schomburg | B32: Gavin | C32: 7 | D32: =+MIN(E32:P32) -> 1258.84 | I32: 1312.34 | M32: 1328.32 | O32: 1258.84 | P32: 1340.3
A33: Pore | B33: Shiv | C33: 8 | D33: =+MIN(E33:P33) -> 1331.59 | N33: 1331.59 | P33: 1350.5
A34: Mancuso | B34: Gabe | C34: 7 | D34: =+MIN(E34:P34) -> 1337.96 | J34: 1337.96
A35: Becker | B35: Nathan | C35: 8 | D35: =+MIN(E35:P35) -> 1420.2 | P35: 1420.2
A36: Kucler | B36: Greyson | C36: 7 | D36: =+MIN(E36:P36) -> 1424.67 | H36: 1424.67
A37: Kale | B37: Ravi | C37: 7 | D37: =+MIN(E37:P37) -> 1624.6 | P37: 1624.6
A39: 2024 2 Mile
A40: Last Name | B40: First Name | D40: Best | E40: 5-10 But Inv | F40: 5-8 2-Mile | G40: 5-8 NA Inv | H40: 5-6 @But | I40: 4-25 Shaler | J40: 4-22 @FC | K40: 4-18 SV | L40: 4-15 Ha | M40: 4-4 Hi | N40: 3-21 @NH | O40: 3-15 PR | P40: Tryout
A41: Hou | B41: Nathan | C41: 8 | D41: =+MIN(E41:P41) -> 1038.45 | E41: 1038.45 | F41: 1056.44 | G41: 1053.35 | H41: 1120.1 | I41: 1116.48 | J41: 1110 | K41: 1117.33 | L41: 1120.45 | N41: 1119.1 | O41: 1127.4 | P41: 1207.6
A42: Patterson | B42: Sam | C42: 8 | D42: =+MIN(E42:P42) -> 1056.93 | E42: 1112.23 | F42: 1101.16 | G42: 1056.93 | H42: 1116.09 | I42: 1145.17 | K42: 1112.69 | L42: 1119.97 | N42: 1118.9 | O42: 1137.1
A43: Smith | B43: Denny | C43: 8 | D43: =+MIN(E43:P43) -> 1116.39 | E43: 1116.39 | H43: 1125.51 | I43: 1124.88 | J43: 1117 | K43: 1121.86 | L43: 1129.39 | M43: 1136.37 | N43: 1132.3 | O43: 1142.9 | P43: 1222.1
...

Sheet Total times
A1: GIRLS | B1: Mile | E1: BEST | G1: 2 Mile | J1: BEST | L1: 800 | O1: BEST | Q1: 400 | T1: BEST
A2: 1 | B2: ='Girls Mile'!A3 -> Strelick | C2: ='Girls Mile'!B3 -> Addison | D2: ='Girls Mile'!C3 -> 7 | E2: ='Girls Mile'!D3 -> 537.34 | F2: 1 | G2: ='Girls 2 Mile'!A3 -> Burgbacher | H2: ='Girls 2 Mile'!B3 -> Sydney | I2: ='Girls 2 Mile'!C3 -> 8 | J2: ='Girls 2 Mile'!D3 -> 1231.54 | K2: 1 | L2: Droe | M2: Genevieve | N2: 8 | O2: 228.25 | P2: 1 | Q2: Newton | R2: Natalie | S2: 7 | T2: 61.64
A3: 2 | B3: ='Girls Mile'!A4 -> Newton | C3: ='Girls Mile'!B4 -> Natalie | D3: ='Girls Mile'!C4 -> 7 | E3: ='Girls Mile'!D4 -> 545.11 | F3: 2 | G3: ='Girls 2 Mile'!A4 -> Antoszewski | H3: ='Girls 2 Mile'!B4 -> Ava | I3: ='Girls 2 Mile'!C4 -> 7 | J3: ='Girls 2 Mile'!D4 -> 1243.93 | K3: 2 | L3: Buckley | M3: Ilsa | N3: 8 | O3: 232.97 | P3: 2 | Q3: Droe | R3: Genevieve | S3: 8 | T3: 63.37
A4: 3 | B4: ='Girls Mile'!A5 -> Ryan | C4: ='Girls Mile'!B5 -> Allison | D4: ='Girls Mile'!C5 -> 8 | E4: ='Girls Mile'!D5 -> 550.26 | F4: 3 | G4: ='Girls 2 Mile'!A5 -> Ryan | H4: ='Girls 2 Mile'!B5 -> Allison | I4: ='Girls 2 Mile'!C5 -> 8 | J4: ='Girls 2 Mile'!D5 -> 1251.32 | K4: 3 | L4: Strelick | M4: Addison | N4: 7 | O4: 233.68 | P4: 3 | Q4: Strelick | R4: Addison | S4: 7 | T4: 65.07
A5: 4 | B5: ='Girls Mile'!A6 -> Mountain | C5: ='Girls Mile'!B6 -> Nora | D5: ='Girls Mile'!C6 -> 8 | E5: ='Girls Mile'!D6 -> 552.35 | F5: 4 | G5: ='Girls 2 Mile'!A6 -> Smith | H5: ='Girls 2 Mile'!B6 -> Ellie | I5: ='Girls 2 Mile'!C6 -> 8 | J5: ='Girls 2 Mile'!D6 -> 1252.07 | K5: 4 | L5: Gilberti | M5: Lucienne | N5: 8 | O5: 236.34 | P5: 4 | Q5: Hernandez | R5: Annalise | S5: 7 | T5: 65.17
A6: 5 | B6: ='Girls Mile'!A7 -> Burgbacher | C6: ='Girls Mile'!B7 -> Sydney | D6: ='Girls Mile'!C7 -> 8 | E6: ='Girls Mile'!D7 -> 552.39 | F6: 5 | G6: ='Girls 2 Mile'!A7 -> Coffman | H6: ='Girls 2 Mile'!B7 -> Margaret | I6: ='Girls 2 Mile'!C7 -> 8 | J6: ='Girls 2 Mile'!D7 -> 1252.55 | K6: 5 | L6: Schott | M6: Sienna | N6: 7 | O6: 241.42 | P6: 5 | Q6: Buckley | R6: Ilsa | S6: 8 | T6: 65.73
A7: 6 | B7: ='Girls Mile'!A8 -> Smith | C7: ='Girls Mile'!B8 -> Ellie | D7: ='Girls Mile'!C8 -> 8 | E7: ='Girls Mile'!D8 -> 552.7 | F7: 6 | G7: ='Girls 2 Mile'!A8 -> Stuart | H7: ='Girls 2 Mile'!B8 -> Raegan | I7: ='Girls 2 Mile'!C8 -> 7 | J7: ='Girls 2 Mile'!D8 -> 1327.87 | K7: 6 | L7: Smith | M7: Ellie | N7: 8 | O7: 241.55 | P7: 6 | Q7: Nelsen | R7: Vivienne | S7: 8 | T7: 67.32
A8: 7 | B8: ='Girls Mile'!A9 -> Gilberti | C8: ='Girls Mile'!B9 -> Lucy | D8: ='Girls Mile'!C9 -> 8 | E8: ='Girls Mile'!D9 -> 556.93 | F8: 7 | G8: ='Girls 2 Mile'!A9 -> Yurky | H8: ='Girls 2 Mile'!B9 -> Avalyn | I8: ='Girls 2 Mile'!C9 -> 8 | J8: ='Girls 2 Mile'!D9 -> 1331.6 | K8: 7 | L8: Mountain | M8: Nora | N8: 8 | O8: 241.79 | P8: 7 | Q8: Kreidler | R8: Vivienne | S8: 8 | T8: 67.39
A9: 8 | B9: ='Girls Mile'!A10 -> Schott | C9: ='Girls Mile'!B10 -> Sienna | D9: ='Girls Mile'!C10 -> 7 | E9: ='Girls Mile'!D10 -> 600.05 | F9: 8 | G9: ='Girls 2 Mile'!A11 -> Gilberti | H9: ='Girls 2 Mile'!B11 -> Lucienne | I9: ='Girls 2 Mile'!C11 -> 8 | J9: ='Girls 2 Mile'!D11 -> 1400.68 | K9: 8 | L9: Ryan | M9: Allison | N9: 8 | O9: 243.24 | P9: 8 | Q9: Duncan | R9: Adelaide | S9: 8 | T9: 68.32
A10: 9 | B10: ='Girls Mile'!A11 -> Antoszewski | C10: ='Girls Mile'!B11 -> Ava | D10: ='Girls Mile'!C11 -> 7 | E10: ='Girls Mile'!D11 -> 600.14 | F10: 9 | K10: 9 | L10: Husok | M10: Brooklynn | N10: 7 | O10: 244.83 | P10: 9 | Q10: Schott | R10: Sienna | S10: 7 | T10: 68.42
A11: 10 | B11: ='Girls Mile'!A12 -> Stuart | C11: ='Girls Mile'!B12 -> Raegan | D11: ='Girls Mile'!C12 -> 7 | E11: ='Girls Mile'!D12 -> 604.18 | F11: 10 | K11: 10 | L11: Stuart | M11: Raegan | N11: 7 | O11: 245.72 | P11: 10 | Q11: Husok | R11: Brooklynn | S11: 7 | T11: 68.74
A12: 11 | B12: ='Girls Mile'!A13 -> Coffman | C12: ='Girls Mile'!B13 -> Margaret | D12: ='Girls Mile'!C13 -> 8 | E12: ='Girls Mile'!D13 -> 608.34 | F12: 11 | K12: 11 | L12: Pirring | M12: Kiralay | N12: 8 | O12: 247.7 | P12: 11 | Q12: Hartshorn | R12: Aubrey | S12: 8 | T12: 69.14
A13: 12 | B13: ='Girls Mile'!A14 -> Natali | C13: ='Girls Mile'!B14 -> Taylor | D13: ='Girls Mile'!C14 -> 8 | E13: ='Girls Mile'!D14 -> 612.84 | F13: 12 | K13: 12 | L13: Hehman | M13: Molly | N13: 7 | O13: 247.85 | P13: 12 | Q13: Gilberti | R13: Lucienne | S13: 8 | T13: 69.3
A14: 13 | B14: ='Girls Mile'!A15 -> Frazer | C14: ='Girls Mile'!B15 -> Mollie | D14: ='Girls Mile'!C15 -> 7 | E14: ='Girls Mile'!D15 -> 622.2 | F14: 13 | K14: 13 | L14: Burgbacher | M14: Sydney | N14: 8 | O14: 248.43 | P14: 13 | Q14: Varlotta | R14: Natalia | S14: 7 | T14: 69.66
A15: 14 | B15: ='Girls Mile'!A16 -> Yurky | C15: ='Girls Mile'!B16 -> Avalyn | D15: ='Girls Mile'!C16 -> 8 | E15: ='Girls Mile'!D16 -> 632.51 | F15: 14 | K15: 14 | L15: Stroud | M15: Evylene | N15: 8 | O15: 249.29 | P15: 14 | Q15: Bucchi | R15: Kenzie | S15: 8 | T15: 69.68
A16: 15 | B16: ='Girls Mile'!A17 -> Hogan | C16: ='Girls Mile'!B17 -> Mira | D16: ='Girls Mile'!C17 -> 8 | E16: ='Girls Mile'!D17 -> 641.04 | F16: 15 | K16: 15 | L16: Natali | M16: Taylor | N16: 8 | O16: 250.97 | P16: 15 | Q16: Hogan | R16: Mira | S16: 8 | T16: 70.14
A17: 16 | B17: ='Girls Mile'!A18 -> Husok | C17: ='Girls Mile'!B18 -> Brooklynn | D17: ='Girls Mile'!C18 -> 7 | E17: ='Girls Mile'!D18 -> 641.74 | K17: 16 | L17: Coffman | M17: Margaret | N17: 8 | O17: 252.52 | P17: 16 | Q17: Ferguson | R17: Clara | S17: 7 | T17: 70.49
A18: 17 | B18: ='Girls Mile'!A19 -> Pirring | C18: ='Girls Mile'!B19 -> Kiralay | D18: ='Girls Mile'!C19 -> 8 | E18: ='Girls Mile'!D19 -> 650.94 | K18: 17 | L18: Antoszewski | M18: Ava | N18: 7 | O18: 253.64 | P18: 17 | Q18: Shea | R18: Ella | S18: 8 | T18: 70.69
A19: 18 | B19: ='Girls Mile'!A21 -> Byrne | C19: ='Girls Mile'!B21 -> Josie | D19: ='Girls Mile'!C21 -> 7 | E19: ='Girls Mile'!D21 -> 719.54 | G19: 2026 | K19: 18 | L19: Tonaus | M19: Roselyn | N19: 8 | O19: 253.7 | P19: 18 | Q19: Cronin | R19: Chloe | S19: 7 | T19: 70.73
A20: 19 | B20: ='Girls Mile'!A22 -> Miller | C20: ='Girls Mile'!B22 -> Claire | D20: ='Girls Mile'!C22 -> 7 | E20: ='Girls Mile'!D22 -> 930.84 | K20: 19 | L20: Yurky | M20: Avalyn | N20: 8 | O20: 255.25 | P20: 19 | Q20: Hayden | R20: Elsa | S20: 8 | T20: 71.14
A21: 20 | K21: 20 | L21: Becker | M21: Madison | N21: 7 | O21: 255.51 | P21: 20 | Q21: Pirring | R21: Kiralay | S21: 8 | T21: 71.18
A22: 21 | G22: 46133
A23: 22
A24: BOYS | B24: Mile | G24: 2 Mile | J24: BEST | L24: 800 | O24: BEST | Q24: 400 | T24: BEST
A25: 1 | B25: ='Boys Mile'!A3 -> Deitch | C25: ='Boys Mile'!B3 -> Bryson | D25: ='Boys Mile'!C3 -> 8 | E25: ='Boys Mile'!D3 -> 503.15 | F25: 1 | G25: ='Boys 2 Mile'!A3 -> Christian | H25: ='Boys 2 Mile'!B3 -> James | I25: ='Boys 2 Mile'!C3 -> 8 | J25: ='Boys 2 Mile'!D3 -> 1054.9 | K25: 1 | L25: Schorr | M25: Connor | N25: 8 | O25: 217.07 | P25: 1 | Q25: Barbour | R25: Zane | S25: 8 | T25: 56.87
A26: 2 | B26: ='Boys Mile'!A4 -> Christian | C26: ='Boys Mile'!B4 -> James | D26: ='Boys Mile'!C4 -> 8 | E26: ='Boys Mile'!D4 -> 509.69 | F26: 2 | G26: ='Boys 2 Mile'!A4 -> Deitch | H26: ='Boys 2 Mile'!B4 -> Bryson | I26: ='Boys 2 Mile'!C4 -> 8 | J26: ='Boys 2 Mile'!D4 -> 1137.49 | K26: 2 | L26: Dickert | M26: Nathan | N26: 8 | O26: 220 | P26: 2 | Q26: Dickert | R26: Nathan | S26: 8 | T26: 58
A27: 3 | B27: ='Boys Mile'!A5 -> Pathuri | C27: ='Boys Mile'!B5 -> Vinurudh Sai | D27: ='Boys Mile'!C5 -> 8 | E27: ='Boys Mile'!D5 -> 520.24 | F27: 3 | G27: ='Boys 2 Mile'!A5 -> Intini | H27: ='Boys 2 Mile'!B5 -> Ian | I27: ='Boys 2 Mile'!C5 -> 8 | J27: ='Boys 2 Mile'!D5 -> 1145.06 | K27: 3 | L27: Christian | M27: James | N27: 8 | O27: 222.9 | P27: 3 | Q27: Reyes | R27: Denis | S27: 8 | T27: 58.48
A28: 4 | B28: ='Boys Mile'!A6 -> Intini | C28: ='Boys Mile'!B6 -> Ian | D28: ='Boys Mile'!C6 -> 8 | E28: ='Boys Mile'!D6 -> 527.75 | F28: 4 | G28: ='Boys 2 Mile'!A6 -> Grabowski | H28: ='Boys 2 Mile'!B6 -> Grant | I28: ='Boys 2 Mile'!C6 -> 8 | J28: ='Boys 2 Mile'!D6 -> 1158.71 | K28: 4 | L28: Intini | M28: Ian | N28: 8 | O28: 223.34 | P28: 4 | Q28: Barbour | R28: Ellis | S28: 8 | T28: 58.63
A29: 5 | B29: ='Boys Mile'!A7 -> Peters | C29: ='Boys Mile'!B7 -> Owen | D29: ='Boys Mile'!C7 -> 8 | E29: ='Boys Mile'!D7 -> 534.64 | F29: 5 | G29: ='Boys 2 Mile'!A7 -> Kucler | H29: ='Boys 2 Mile'!B7 -> Greyson | I29: ='Boys 2 Mile'!C7 -> 8 | J29: ='Boys 2 Mile'!D7 -> 1219.61 | K29: 5 | L29: Deitch | M29: Bryson | N29: 8 | O29: 223.82 | P29: 5 | Q29: Pathuri | R29: Vinurudh Sai | S29: 8 | T29: 58.64
A30: 6 | B30: ='Boys Mile'!A8 -> Kaminski | C30: ='Boys Mile'!B8 -> Bennett | D30: ='Boys Mile'!C8 -> 7 | E30: ='Boys Mile'!D8 -> 535.24 | F30: 6 | G30: ='Boys 2 Mile'!A8 -> Paylo | H30: ='Boys 2 Mile'!B8 -> James | I30: ='Boys 2 Mile'!C8 -> 7 | J30: ='Boys 2 Mile'!D8 -> 1248.09 | K30: 6 | L30: O'Keefe | M30: Colin | N30: 7 | O30: 224.5 | P30: 6 | Q30: Schorr | R30: Connor | S30: 8 | T30: 59.71
A31: 7 | B31: ='Boys Mile'!A9 -> Grabowski | C31: ='Boys Mile'!B9 -> Grant | D31: ='Boys Mile'!C9 -> 8 | E31: ='Boys Mile'!D9 -> 535.94 | F31: 7 | G31: ='Boys 2 Mile'!A9 -> Stern | H31: ='Boys 2 Mile'!B9 -> Andrei | I31: ='Boys 2 Mile'!C9 -> 7 | J31: ='Boys 2 Mile'!D9 -> 1255.94 | K31: 7 | L31: Reyes | M31: Denis | N31: 8 | O31: 227.46 | P31: 7 | Q31: Goheen | R31: Hank | S31: 8 | T31: 60.02
A32: 8 | B32: ='Boys Mile'!A10 -> Schomburg | C32: ='Boys Mile'!B10 -> Gavin | D32: ='Boys Mile'!C10 -> 8 | E32: ='Boys Mile'!D10 -> 537.97 | F32: 8 | G32: ='Boys 2 Mile'!A10 -> Tseng | H32: ='Boys 2 Mile'!B10 -> Gabriel | I32: ='Boys 2 Mile'!C10 -> 7 | J32: ='Boys 2 Mile'!D10 -> 1302.74 | K32: 8 | L32: Schomburg | M32: Gavin | N32: 8 | O32: 227.58 | P32: 8 | Q32: Kikel | R32: Andrew | S32: 8 | T32: 61.22
A33: 9 | B33: ='Boys Mile'!A11 -> Paylo | C33: ='Boys Mile'!B11 -> James | D33: ='Boys Mile'!C11 -> 7 | E33: ='Boys Mile'!D11 -> 539.24 | F33: 9 | G33: ='Boys 2 Mile'!A11 -> Webber-Plank | H33: ='Boys 2 Mile'!B11 -> Andrew | I33: ='Boys 2 Mile'!C11 -> 7 | J33: ='Boys 2 Mile'!D11 -> 1303.95 | K33: 9 | L33: Grabowski | M33: Grant | N33: 8 | O33: 232.1 | P33: 9 | Q33: Mancuso | R33: Gabe | S33: 8 | T33: 62.21
A34: 10 | B34: ='Boys Mile'!A12 -> Thearle | C34: ='Boys Mile'!B12 -> Bennett | D34: ='Boys Mile'!C12 -> 8 | E34: ='Boys Mile'!D12 -> 545.41 | F34: 10 | G34: ='Boys 2 Mile'!A12 -> Houser | H34: ='Boys 2 Mile'!B12 -> Drew | I34: ='Boys 2 Mile'!C12 -> 7 | J34: ='Boys 2 Mile'!D12 -> 1331.64 | K34: 10 | L34: Peters | M34: Owen | N34: 8 | O34: 233.35 | P34: 10 | Q34: Inukurthi | R34: Harshik Sai | S34: 7 | T34: 63.24
A35: 11 | B35: ='Boys Mile'!A13 -> Kozelnik | C35: ='Boys Mile'!B13 -> Fletcher | D35: ='Boys Mile'!C13 -> 7 | E35: ='Boys Mile'!D13 -> 546.63 | F35: 11 | G35: ='Boys 2 Mile'!A13 -> Thottempudi | H35: ='Boys 2 Mile'!B13 -> Moksh | I35: ='Boys 2 Mile'!C13 -> 8 | J35: ='Boys 2 Mile'!D13 -> 1558.34 | K35: 11 | L35: Kucler | M35: Greyson | N35: 8 | O35: 234.42 | P35: 11 | Q35: Oakes | R35: Brody | S35: 8 | T35: 63.6
A36: 12 | B36: ='Boys Mile'!A14 -> Kucler | C36: ='Boys Mile'!B14 -> Greyson | D36: ='Boys Mile'!C14 -> 8 | E36: ='Boys Mile'!D14 -> 548.24 | F36: 12 | G36: ='Boys 2 Mile'!A14 -> Malapaka | H36: ='Boys 2 Mile'!B14 -> Saibhargav | I36: ='Boys 2 Mile'!C14 -> 7 | J36: ='Boys 2 Mile'!D14 -> 1625.54 | K36: 12 | L36: Mancuso | M36: Gabe | N36: 8 | O36: 234.97 | P36: 12 | Q36: Angelopoulos | R36: Luca | S36: 8 | T36: 64.47
A37: 13 | B37: ='Boys Mile'!A15 -> Stern | C37: ='Boys Mile'!B15 -> Andrei | D37: ='Boys Mile'!C15 -> 7 | E37: ='Boys Mile'!D15 -> 548.41 | F37: 13 | K37: 13 | L37: Kaminski | M37: Bennett | N37: 7 | O37: 237.25 | P37: 13 | Q37: Intini | R37: Ian | S37: 8 | T37: 65.33
A38: 14 | B38: ='Boys Mile'!A16 -> Houser | C38: ='Boys Mile'!B16 -> Drew | D38: ='Boys Mile'!C16 -> 7 | E38: ='Boys Mile'!D16 -> 549.29 | F38: 14 | K38: 14 | L38: Handron | M38: Conor | N38: 7 | O38: 241.36 | P38: 14 | Q38: Pisarski | R38: Troy | S38: 8 | T38: 65.55
A39: 15 | B39: ='Boys Mile'!A17 -> Handron | C39: ='Boys Mile'!B17 -> Canor | D39: ='Boys Mile'!C17 -> 7 | E39: ='Boys Mile'!D17 -> 557.24 | F39: 15 | K39: 15 | L39: Thearle | M39: Bennett | N39: 8 | O39: 242.04 | P39: 15 | Q39: Deitch | R39: Bryson | S39: 8 | T39: 65.98
A40: 16 | B40: ='Boys Mile'!A18 -> Moschetta | C40: ='Boys Mile'!B18 -> William | D40: ='Boys Mile'!C18 -> 7 | E40: ='Boys Mile'!D18 -> 558.92 | F40: 16 | K40: 16 | L40: Rainey | M40: Shepard | N40: 7 | O40: 242.2 | P40: 16 | Q40: Thearle | R40: Bennett | S40: 8 | T40: 66.01
...

Sheet Sheet1
A1: Newton | B1: Natalie | C1: 7 | D1: 61.64
A2: Droe | B2: Genevieve | C2: 8 | D2: 63.37
A3: Strelick | B3: Addison | C3: 7 | D3: 65.07
A4: Hernandez | B4: Annalise | C4: 7 | D4: 65.17
A5: Buckley | B5: Ilsa | C5: 8 | D5: 65.73
A6: Nelsen | B6: Vivienne | C6: 8 | D6: 67.32
A7: Kreidler | B7: Vivienne | C7: 8 | D7: 67.39
A8: Duncan | B8: Adelaide | C8: 8 | D8: 68.32
A9: Schott | B9: Sienna | C9: 7 | D9: 68.42
A10: Husok | B10: Brooklynn | C10: 7 | D10: 68.74
A11: Hartshorn | B11: Aubrey | C11: 8 | D11: 69.14
A12: Gilberti | B12: Lucienne | C12: 8 | D12: 69.3
... A20: Pirring | B20: Kiralay | C20: 8 | D20: 71.18
