Workbook

Sheet Girls Mile
A1: 2026 Mile
A2: Last Name | B2: First Name | D2: Best | J2: 4-20 SV | K2: 4-15 FC | L2: 4-13 Sh | M2: 4-1 Mars | N2: 3-30 Hamp | O2: 3-27 NH | P2: 3-20 PR | Q2: Tryout
A3: Strelick | B3: Addison | C3: 7 | D3: =+MIN(E3:Q3) -> 537.34 | K3: 537.34 | L3: 550.41 | M3: 542.76 | N3: 551.61
A4: Newton | B4: Natalie | C4: 7 | D4: =+MIN(E4:Q4) -> 545.11 | L4: 602.46 | O4: 545.11 | P4: 545.5 | Q4: 609.04
A5: Ryan | B5: Allison | C5: 8 | D5: =+MIN(E5:Q5) -> 550.26 | K5: 610.64 | M5: 550.26 | O5: 559.18 | Q5: 608.74
A6: Mountain | B6: Nora | C6: 8 | D6: =+MIN(E6:Q6) -> 552.35 | J6: 552.35 | K6: 559.64 | L6: 615.84 | N6: 602.86 | P6: 609.18 | Q6: 619.54
A7: Burgbacher | B7: Sydney | C7: 8 | D7: =+MIN(E7:Q7) -> 552.39 | K7: 557.64 | M7: 552.39 | O7: 601.12 | Q7: 615.24
A8: Smith | B8: Ellie | C8: 8 | D8: =+MIN(E8:Q8) -> 552.7 | J8: 552.7 | K8: . | L8: 604.74 | N8: 556.16 | Q8: 616.24
A9: Gilberti | B9: Lucy | C9: 8 | D9: =+MIN(E9:Q9) -> 556.93 | J9: 556.93 | K9: 600.74 | L9: 601.71 | M9: 603.17 | N9: 601.19 | O9: 610.71 | P9: 610.36 | Q9: 616.04
A10: Schott | B10: Sienna | C10: 7 | D10: =+MIN(E10:Q10) -> 600.05 | O10: 600.05 | Q10: 622.54
A11: Antoszewski | B11: Ava | C11: 7 | D11: =+MIN(E11:Q11) -> 600.14 | K11: 600.14 | M11: 609.16 | N11: 611.99 | O11: 620.82 | Q11: 633.34
A12: Stuart | B12: Raegan | C12: 7 | D12: =+MIN(E12:Q12) -> 604.18 | J12: 604.18 | L12: 621.18 | N12: 606.22 | Q12: 607.44
A13: Coffman | B13: Margaret | C13: 8 | D13: =+MIN(E13:Q13) -> 608.34 | K13: 608.34 | M13: 610.57 | Q13: 618.74
A14: Natali | B14: Taylor | C14: 8 | D14: =+MIN(E14:Q14) -> 612.84 | J14: 632 | L14: 641.91 | O14: 612.84 | P14: 613.01 | Q14: 650.24
A15: Frazer | B15: Mollie | C15: 7 | D15: =+MIN(E15:Q15) -> 622.2 | M15: 622.2 | O15: 623.55 | P15: 636.75 | Q15: 640.34
A16: Yurky | B16: Avalyn | C16: 8 | D16: =+MIN(E16:Q16) -> 632.51 | L16: 632.51 | Q16: 637.14
A17: Hogan | B17: Mira | C17: 8 | D17: =+MIN(E17:Q17) -> 641.04 | Q17: 641.04
A18: Husok | B18: Brooklynn | C18: 7 | D18: =+MIN(E18:Q18) -> 641.74 | Q18: 641.74
A19: Pirring | B19: Kiralay | C19: 8 | D19: =+MIN(E19:Q19) -> 650.94 | Q19: 650.94
A20: Maravich | B20: Avery | C20: 7 | D20: =+MIN(E20:Q20) -> 652.33 | J20: 652.33
A21: Byrne | B21: Josie | C21: 7 | D21: =+MIN(E21:Q21) -> 719.54 | P21: 721.82 | Q21: 719.54
A22: Miller | B22: Claire | C22: 7 | D22: =+MIN(E22:Q22) -> 930.84 | Q22: 930.84
A24: 2025 Mile
A25: Last Name | B25: First Name | D25: Best | E25: 5-10 But Inv | F25: 5-7 Mile | G25: 5-7 NA Inv | H25: 5-5 But | I25: 4-28 SVR | J25: 4-22 SV | K25: 4-15 FC | L25: 4-11 Sh | M25: 4-3 Mars | N25: 3-31 Hamp | O25: 3-20 NH | P25: 3-17 PR | Q25: Tryout
A26: Strelick | B26: Samantha | C26: 8 | D26: =+MIN(E26:Q26) -> 524.04 | H26: 524.04 | I26: 525 | L26: 533.05 | N26: 533.93 | P26: 543.01
A27: Duchi | B27: Annaliese | C27: 8 | D27: =+MIN(E27:Q27) -> 525.5 | F27: 527.21 | G27: 525.5 | H27: 537.69 | I27: 528.2 | J27: 534.47 | K27: 539.72 | M27: 535.76 | N27: 538.93 | O27: 549.6 | P27: 551.73 | Q27: 555.5
A28: Pealer | B28: Alexa | C28: 8 | D28: =+MIN(E28:Q28) -> 536.5 | F28: 538.34 | G28: 536.5 | H28: 543.48 | I28: 540.5 | J28: 546.64 | M28: 603.86 | P28: 604.71 | Q28: 616.2
A29: Richmond | B29: Elizabeth | C29: 8 | D29: =+MIN(E29:Q29) -> 546.34 | E29: 559.05 | H29: 546.34 | I29: 551.7 | J29: 547.94 | L29: 550.96 | N29: 600.33 | O29: 612.27 | Q29: 617.6
A30: Natali | B30: Cailyn | C30: 8 | D30: =+MIN(E30:Q30) -> 548.06 | E30: 548.06 | H30: 557.16 | J30: 558.38 | L30: 602.81 | N30: 613.67 | P30: 618.87 | Q30: 625
A31: Mountain | B31: Nora | C31: 7 | D31: =+MIN(E31:Q31) -> 548.86 | E31: 548.86 | H31: 550.05 | J31: 559.85 | K31: 612.13 | L31: 606.98 | M31: 620.85 | N31: 622.24 | P31: 624.11 | Q31: 639.5
A32: Burgbacher | B32: Sydney | C32: 7 | D32: =+MIN(E32:Q32) -> 553.38 | I32: 558.5 | J32: 553.38 | K32: 610.64 | M32: 608.85 | P32: 628.24 | Q32: 638.7
A33: Romanow | B33: Olivia | C33: 8 | D33: =+MIN(E33:Q33) -> 609.03 | H33: 609.03 | J33: 625.23 | K33: 641.1 | L33: 628.87 | M33: 636.72 | N33: 654.46 | P33: 633.61 | Q33: 701.5
A34: Ryan | B34: Allie | C34: 7 | D34: =+MIN(E34:Q34) -> 609.59 | H34: 615.68 | J34: 609.59 | L34: 623.59 | M34: 611.83 | N34: 617.86 | O34: 622.62 | P34: 637.35 | Q34: 629.9
A35: Gilberti | B35: Lucy | C35: 7 | D35: =+MIN(E35:Q35) -> 613.93 | H35: 613.93 | J35: 619.07 | K35: 635.35 | L35: 630.5 | M35: 627.68 | N35: 631.75 | O35: 637.96 | P35: 645.57 | Q35: 641.2
A36: Ansell | B36: Ainsley | C36: 7 | D36: =+MIN(E36:Q36) -> 614.82 | H36: 614.82 | K36: 634.44
A37: Pirring | B37: Kiralay | C37: 7 | D37: =+MIN(E37:Q37) -> 618.42 | H37: 618.42 | J37: 622.25 | K37: 639.09 | L37: 625.93 | M37: 625.36 | N37: 636.08 | P37: 641.55 | Q37: 703.7
A38: Smith | B38: Ellie | C38: 7 | D38: =+MIN(E38:Q38) -> 621.54 | K38: 621.54 | N38: 624.21 | O38: 629.44 | P38: 638.25 | Q38: 634.4
A39: Singer | B39: Quinn | C39: 8 | D39: =+MIN(E39:Q39) -> 627.24 | H39: 629.83 | J39: 627.24 | M39: 638.23 | N39: 644.7 | O39: 649.76 | Q39: 652
A40: Coffman | B40: Margaret | C40: 7 | D40: =+MIN(E40:Q40) -> 638.96 | H40: 638.96 | K40: 643.86 | N40: 650.75 | Q40: 641.8
A41: Si | B41: Hannah | C41: 8 | D41: =+MIN(E41:Q41) -> 647.45 | K41: 647.45 | M41: 648.2 | N41: 656.57 | Q41: 707.2
A42: Hogan | B42: Mira | C42: 7 | D42: =+MIN(E42:Q42) -> 700.2 | Q42: 700.2
A43: Yurky | B43: Avalyn | C43: 7 | D43: =+MIN(E43:Q43) -> 703 | K43: 716.21 | Q43: 703
A44: Fraley | B44: Elizabeth | C44: 7 | D44: =+MIN(E44:Q44) -> 704.09 | M44: 704.09 | N44: 729.3 | O44: 716.59 | Q44: 704.9
A45: Molina | B45: Grace | C45: 7 | D45: =+MIN(E45:Q45) -> 704.3 | N45: 733.06 | Q45: 704.3
A46: Brown | B46: Sedona | C46: 8 | D46: =+MIN(E46:Q46) -> 708.5 | Q46: 708.5
A47: Speedy | B47: Katherine | C47: 7 | D47: =+MIN(E47:Q47) -> 735 | Q47: 735
A50: 2024 Mile
A51: Last Name | B51: First Name | D51: Best | E51: 5-10 But Inv | F51: 5-8 Mile | G51: 5-8 NA Inv | H51: 5-6 @But | I51: 4-29 @SVR | J51: 4-29 @SVR | K51: 4-25 Shaler | L51: 4-22 @FC | M51: 4-18 SV | N51: 4-15 Ha | O51: 4-4 Hi | P51: 3-21 @NH | Q51: 3-15 PR | R51: Tryout
A52: Duchi | B52: Annaliese | C52: 7 | D52: =+MIN(E52:R52) -> 528.68 | E52: 528.68 | F52: 532.46 | G52: 530.38 | H52: 532.49 | J52: 548.5 | K52: 534.81 | L52: 531.9 | M52: 540.92 | N52: 545.6 | O52: 542.85 | P52: 544.9 | Q52: 547.7 | R52: 554.3
A53: Strelick | B53: Samantha | C53: 7 | D53: =+MIN(E53:R53) -> 530.6 | H53: 533.87 | J53: 540 | L53: 530.6 | O53: 544.37 | R53: 601.4
A54: Grabowski | B54: Ally | C54: 8 | D54: =+MIN(E54:R54) -> 534.03 | E54: 534.03 | F54: 543.21 | G54: 540.49 | H54: 547.69 | J54: 540.7 | K54: 536.81 | N54: 552.36 | P54: 542.5 | Q54: 544.7 | R54: 556.9
A55: Pealer | B55: Alexa | C55: 7 | D55: =+MIN(E55:R55) -> 539.4 | K55: 544.32 | L55: 539.4 | N55: 558.79
A56: Peters | B56: Kyleigh | C56: 8 | D56: =+MIN(E56:R56) -> 546.28 | E56: 550.21 | I56: 555.2 | J56: 553.2 | K56: 546.28 | M56: 555.23 | N56: 613.73 | O56: 601.4 | P56: 558 | Q56: 605.6 | R56: 614
A57: Keiser | B57: Madelyn | C57: 7 | D57: =+MIN(E57:R57) -> 602.96 | K57: 602.96 | O57: 618.07 | P57: 605.6 | Q57: 609.4 | R57: 616.1
A58: Natali | B58: Cailyn | C58: 7 | D58: =+MIN(E58:R58) -> 606.23 | K58: 606.23 | M58: 623.86 | O58: 621.81 | R58: 639.9
A59: Lucas | B59: Mary | C59: 8 | D59: =+MIN(E59:R59) -> 606.69 | O59: 606.69 | R59: 609.3
A60: Nocera | B60: Leila | C60: 8 | D60: =+MIN(E60:R60) -> 610.26 | H60: 610.26 | R60: 700.9
A61: Richmond | B61: Elizabeth | C61: 7 | D61: =+MIN(E61:R61) -> 621.41 | H61: 621.41 | M61: 622.82 | N61: 655.01 | O61: 646.03 | P61: 636.8 | Q61: 640.7 | R61: 652.7
A62: Brooks | B62: Karsyn | C62: 7 | D62: =+MIN(E62:R62) -> 629.4 | H62: 632.29 | L62: 629.4 | M62: 652.85 | N62: 645.28 | O62: 655.17 | Q62: 644.3
A63: Bruton | B63: Ayla | C63: 8 | D63: =+MIN(E63:R63) -> 635.2 | K63: 638.18 | L63: 635.2 | M63: 643.22 | N63: 655.79 | Q63: 650.4 | R63: 652.4
A64: Swartz | B64: Ashley | C64: 8 | D64: =+MIN(E64:R64) -> 639.9 | R64: 639.9
A65: Thirumala | B65: Medha | C65: 8 | D65: =+MIN(E65:R65) -> 641.24 | K65: 641.24 | M65: 650.75 | N65: 648.93 | O65: 647.36 | Q65: 653.8 | R65: 707.5
A66: Romanow | B66: Olivia | C66: 7 | D66: =+MIN(E66:R66) -> 641.91 | K66: 641.91 | M66: 656.68 | N66: 653.15 | Q66: 654.7 | R66: 704.9
A67: Arnold | B67: Caroline | C67: 8 | D67: =+MIN(E67:R67) -> 645.73 | H67: 708.44 | K67: 645.73 | Q67: 652.9 | R67: 704.5
A68: Rempe | B68: Gabrielle | C68: 8 | D68: =+MIN(E68:R68) -> 651.74 | H68: 657.6 | K68: 651.74 | L68: 653.5 | R68: 704
A69: Eich | B69: Chloe | C69: 7 | D69: =+MIN(E69:R69) -> 657.77 | M69: 657.77
A70: Brown | B70: Ainsley | C70: 8 | D70: =+MIN(E70:R70) -> 703.3 | R70: 703.3
A76: 2023 Mile
A77: Last Name | B77: First Name | C77: Grade | D77: Best | E77: 5-12 @BI | F77: 5-10 NA Inv | G77: 5-4 But | H77: 5-1 @SVR | I77: 4-27 @PR | J77: 4-24 FC | K77: 4-20 SV | L77: 4-17 @Ma | M77: 4-12 @Sh | N77: 4-10 Ha/WH | O77: 3-28 Hi | P77: 3-21 NH | Q77: Tryouts
A78: Ries | B78: Lily | C78: 8 | D78: =+MIN(E78:Q78) -> 525.6 | E78: 528.33 | F78: 527.65 | G78: 530.3 | H78: 539.1 | I78: 525.6 | J78: 528.4 | K78: 538.37 | L78: 533.41 | M78: 536.24 | N78: 538.1 | O78: 533.9 | P78: 535.1 | Q78: 532
A79: Lucas | B79: Mary | C79: 7 | D79: =+MIN(E79:Q79) -> 535.38 | E79: 535.38 | H79: 552.4 | M79: 554.22 | P79: 551.5 | Q79: 601.5
A80: Grabowski | B80: Ally | C80: 7 | D80: =+MIN(E80:Q80) -> 547.7 | H80: 551.5 | J80: 547.7 | L80: 601.19 | M80: 559.12 | O80: 553 | P80: 554.8 | Q80: 550.9
A81: Tengowski | B81: Julia | C81: 8 | D81: =+MIN(E81:Q81) -> 554.4 | H81: 557.5/600.9 | J81: 554.4 | Q81: 623.3
A82: Dudro | B82: Megan | C82: 8 | D82: =+MIN(E82:Q82) -> 555.84 | F82: 603.09 | G82: 556.2 | I82: 555.84 | K82: 556.63
A83: Grunz | B83: Eva | C83: 7 | D83: =+MIN(E83:Q83) -> 556.99 | E83: 557.14 | G83: 602.4 | I83: 556.99 | J83: 618.4 | K83: 627.24 | L83: 638.61 | M83: 635.73 | N83: 627 | O83: 628.3 | P83: 655.4 | Q83: 658.1
A84: Gordish | B84: Abby | C84: 8 | D84: =+MIN(E84:Q84) -> 603 | G84: 603 | J84: 610.7 | K84: 619.08
A85: Pizon | B85: Gabriela | C85: 8 | D85: =+MIN(E85:Q85) -> 604.36 | K85: 604.36 | Q85: 651.6
A86: Forrest | B86: Juliet | C86: 8 | D86: =+MIN(E86:Q86) -> 604.4 | G86: 604.4 | I86: 611.13 | J86: 623.4 | K86: 622.16 | L86: 634.03 | M86: 634.58 | N86: 625.3 | O86: 658.2 | P86: 654.2 | Q86: 715.6
A87: Ford | B87: Mia | C87: 8 | D87: =+MIN(E87:Q87) -> 609 | G87: 609 | I87: 612.5 | J87: 625.3 | K87: 620.77 | L87: 632.99 | M87: 632.5 | N87: 626.2 | O87: 621.8 | P87: 635.5 | Q87: 624.9
A88: Swartz | B88: Ashley | C88: 7 | D88: =+MIN(E88:Q88) -> 618.4 | G88: 618.4 | K88: 630.53 | M88: 631.11 | N88: 632.1 | O88: 626.9 | P88: 630.9 | Q88: 704
A89: Humphrey | B89: Lydia | C89: 8 | D89: =+MIN(E89:Q89) -> 619.09 | M89: 619.09 | O89: 619.5
A90: Howe | B90: Chloe | C90: 8 | D90: =+MIN(E90:Q90) -> 621.3 | G90: 643.9 | L90: 631.45 | M90: 633.45 | N90: 645.3 | P90: 621.3 | Q90: 641.3
A91: Nocera | B91: Leila | C91: 7 | D91: =+MIN(E91:Q91) -> 627.9 | K91: 635.75 | L91: 636.73 | N91: 627.9 | P91: 629.1 | Q91: 653.4
A92: Devennie | B92: Ava | C92: 7 | D92: =+MIN(E92:Q92) -> 630.41 | L92: 630.41 | P92: 701 | Q92: 656.1
A93: Burgbacher | B93: Madeline | C93: 8 | D93: =+MIN(E93:Q93) -> 634.6 | G93: 634.6 | J93: 640.3 | K93: 640.25 | L93: 651.2 | M93: 656.33 | N93: 656.5 | O93: 652.3 | P93: 656.1 | Q93: 720.5
A94: Richardson | B94: Janie | C94: 8 | D94: =+MIN(E94:Q94) -> 639 | L94: 645.71 | N94: 654.3 | O94: 640.7 | P94: 639 | Q94: 654.4
A95: Beemer | B95: Jordan | C95: 8 | D95: =+MIN(E95:Q95) -> 639.6 | J95: 639.6
A96: Goehring | B96: Isabella | C96: 8 | D96: =+MIN(E96:Q96) -> 643.5 | M96: 643.5
A97: Qian | B97: Misaki | C97: 7 | D97: =+MIN(E97:Q97) -> 645 | G97: 645 | L97: 700.48 | M97: 704.31 | N97: 659.9 | O97: 702.7 | P97: 706.5 | Q97: 659.8
A98: Rempe | B98: Gabriela | C98: 7 | D98: =+MIN(E98:Q98) -> 645.7 | J98: 650.1 | N98: 645.7
A99: Goetz | B99: Addison | C99: 8 | D99: =+MIN(E99:Q99) -> 648.5 | G99: 651.1 | J99: 648.5 | K99: 700.64 | L99: 659.48 | M99: 658.34 | N99: 655 | Q99: 708.9
A100: Mountain | B100: Eva | C100: 8 | D100: =+MIN(E100:Q100) -> 653.7 | G100: 656.3 | J100: 653.7 | K100: 713.5 | L100: 702.95 | M100: 714.4 | N100: 721 | O100: 703 | P100: 711.5 | Q100: 701.8
A101: Neff | B101: Rachel | C101: 7 | D101: =+MIN(E101:Q101) -> 657.79 | L101: 701.31 | M101: 657.79
A102: Swoger | B102: Olivia | C102: 7 | D102: =+MIN(E102:Q102) -> 658 | G102: 658 | J102: 719.8 | K102: 729.46 | L102: 722.39 | M102: 717.3 | N102: 701 | O102: 710.3
A103: Donnelly | B103: Harlie | C103: 7 | D103: =+MIN(E103:Q103) -> 658.5 | G103: 658.5 | N103: 721.7 | O103: 716.3 | P103: 721.7 | Q103: 715.9
A104: Mazur | B104: Sarah | C104: 7 | D104: =+MIN(E104:Q104) -> 700.4 | G104: 700.4 | J104: 706.2 | N104: 722.1 | O104: 710.1 | Q104: 719
A105: Goodman | B105: Sydney | C105: 7 | D105: =+MIN(E105:Q105) -> 711.8 | Q105: 711.8
A106: Peters | B106: Kyleigh | C106: 7 | D106: =+MIN(E106:Q106) -> 718.6 | Q106: 718.6
A107: Lee | B107: Gabby | C107: 8 | D107: =+MIN(E107:Q107) -> 722 | O107: 722.2 | P107: 722 | Q107: 725
A109: 2022 Mile
...

Sheet Boys Mile
A1: 2026 Mile
A2: Last Name | B2: First Name | D2: Best | J2: 4-20 SV | K2: 4-15 FC | L2: 4-13 Sh | M2: 4-1 Mars | N2: 3-30 Hamp | O2: 3-27 NH | P2: 3-20 PR | Q2: Tryout
A3: Deitch | B3: Bryson | C3: 8 | D3: =+MIN(E3:Q3) -> 503.15 | J3: 503.15 | L3: 510.12 | N3: 509.52 | O3: 527.94 | P3: 532.85 | Q3: 543.94
A4: Christian | B4: James | C4: 8 | D4: =+MIN(E4:Q4) -> 509.69 | K4: 518.24 | L4: 519.45 | N4: 509.69 | P4: 513.26 | Q4: 522.64
A5: Pathuri | B5: Vinurudh Sai | C5: 8 | D5: =+MIN(E5:Q5) -> 520.24 | K5: 520.24 | L5: 530.92 | M5: 532.04 | N5: 525.23 | O5: 540.29 | P5: 533.82
A6: Intini | B6: Ian | C6: 8 | D6: =+MIN(E6:Q6) -> 527.75 | N6: 527.75 | Q6: 540.24
A7: Peters | B7: Owen | C7: 8 | D7: =+MIN(E7:Q7) -> 534.64 | M7: 539.02 | N7: 535.47 | O7: 536 | P7: 534.64 | Q7: 539.94
A8: Kaminski | B8: Bennett | C8: 7 | D8: =+MIN(E8:Q8) -> 535.24 | J8: 601.55 | K8: 535.24 | L8: 558.61 | N8: 546.16 | O8: 543.64 | P8: 602.17 | Q8: 609.54
A9: Grabowski | B9: Grant | C9: 8 | D9: =+MIN(E9:Q9) -> 535.94 | J9: 535.94 | K9: 537.24 | Q9: 542.24
A10: Schomburg | B10: Gavin | C10: 8 | D10: =+MIN(E10:Q10) -> 537.97 | N10: 544.22 | O10: 537.97 | P10: 547.73 | Q10: 541.64
A11: Paylo | B11: James | C11: 7 | D11: =+MIN(E11:Q11) -> 539.24 | K11: 539.24 | M11: 544.36 | O11: 545.06 | P11: 557.28 | Q11: 604.84
A12: Thearle | B12: Bennett | C12: 8 | D12: =+MIN(E12:Q12) -> 545.41 | J12: 551.82 | K12: 549.24 | M12: 545.41 | N12: 554.74
A13: Kozelnik | B13: Fletcher | C13: 7 | D13: =+MIN(E13:Q13) -> 546.63 | N13: 552.97 | O13: 546.63 | P13: 606.1 | Q13: 606.84
A14: Kucler | B14: Greyson | C14: 8 | D14: =+MIN(E14:Q14) -> 548.24 | K14: 548.24 | Q14: 553.04
A15: Stern | B15: Andrei | C15: 7 | D15: =+MIN(E15:Q15) -> 548.41 | J15: 602.3 | K15: 602.24 | M15: 555.86 | O15: 548.41 | P15: 606.71 | Q15: 616.04
A16: Houser | B16: Drew | C16: 7 | D16: =+MIN(E16:Q16) -> 549.29 | J16: 601.79 | L16: 618.86 | M16: 549.29 | N16: 556.47 | O16: 549.98 | P16: 602.29 | Q16: 611.74
A17: Handron | B17: Canor | C17: 7 | D17: =+MIN(E17:Q17) -> 557.24 | J17: 602.6 | K17: 557.24 | N17: 600.94
A18: Moschetta | B18: William | C18: 7 | D18: =+MIN(E18:Q18) -> 558.92 | J18: 558.92 | K18: 611.24 | L18: 619.71 | N18: 613.58 | Q18: 633.64
A19: Palled | B19: Navik | C19: 8 | D19: =+MIN(E19:Q19) -> 604.06 | J19: 604.06 | K19: 616.24 | L19: 623.7 | M19: 606.7 | N19: 612.61 | Q19: 638.74
A20: Webber-Plank | B20: Andrew | C20: 7 | D20: =+MIN(E20:Q20) -> 605.2 | J20: 605.2 | L20: 609.03 | N20: 610.47 | P20: 615.15 | Q20: 628.54
A21: McManus | B21: Jasper | C21: 8 | D21: =+MIN(E21:Q21) -> 606.65 | J21: 620.87 | M21: 606.65 | N21: 623.32 | P21: 630.24
A22: Tseng | B22: Gabriel | C22: 7 | D22: =+MIN(E22:Q22) -> 607.37 | L22: 607.37 | N22: 609.86 | P22: 626.28 | Q22: 627.64
A23: Theys | B23: Lincoln | C23: 7 | D23: =+MIN(E23:Q23) -> 624.57 | J23: 625.67 | K23: 625.24 | L23: 632.66 | M23: 624.57 | N23: 625.47 | Q23: 641.94
A24: Li | B24: Xin | C24: 8 | D24: =+MIN(E24:Q24) -> 634.26 | P24: 634.26 | Q24: 636.64
A25: Thottempudi | B25: Moksh | C25: 8 | D25: =+MIN(E25:Q25) -> 659.04 | Q25: 659.04
A26: Kitzes | B26: Eli | C26: 7 | D26: =+MIN(E26:Q26) -> 733.74 | Q26: 733.74
A27: West | B27: Nolan | C27: 7 | D27: =+MIN(E27:Q27) -> 824.24 | Q27: 824.24
A32: 2025 Mile
A33: Last Name | B33: First Name | D33: Best | E33: 5-10 But Inv | F33: 5-7 Mile | G33: 5-7 NA Inv | H33: 5-5 But | I33: 4-28 SVR | J33: 4-22 SV | K33: 4-15 FC | L33: 4-11 Sh | M33: 4-3 Mars | N33: 3-31 Hamp | O33: 3-20 NH | P33: 3-17 PR | Q33: Tryout
A34: Hirwani | B34: Gatik | C34: 8 | D34: =+MIN(E34:Q34) -> 432.48 | E34: 432.48 | F34: 440.79 | G34: 439.2 | H34: 435.96 | I34: 442.4 | K34: 452.23 | L34: 446.81 | M34: 449.32 | N34: 453.47 | O34: 455.08 | P34: 503.24 | Q34: 501.8
A35: Clarkson | B35: Colin | C35: 8 | D35: =+MIN(E35:Q35) -> 454.05 | E35: 454.05 | F35: 458.33 | G35: 456.7 | H35: 457.8 | I35: 500.5 | J35: 500.53 | K35: 507.07 | M35: 457.86 | N35: 502.91 | O35: 511.56 | P35: 519.64 | Q35: 528.7
A36: Sturzinger | B36: Dominic | C36: 8 | D36: =+MIN(E36:Q36) -> 509.36 | E36: 519 | H36: 509.36 | K36: 546.52 | L36: 536.65 | O36: 534.83 | Q36: 551.7
A37: Kerzmann | B37: Holden | C37: 8 | D37: =+MIN(E37:Q37) -> 526.4 | I37: 526.4 | J37: 534.77 | L37: 539.22 | N37: 543 | P37: 553.75 | Q37: 554.7
A38: Verma | B38: Moksh | C38: 8 | D38: =+MIN(E38:Q38) -> 531.21 | H38: 532.79 | I38: 534 | J38: 539.41 | K38: 548.99 | L38: 536.76 | M38: 531.21 | N38: 541.42 | O38: 558.98 | P38: 603.95 | Q38: 601.7
A39: Christian | B39: James | C39: 7 | D39: =+MIN(E39:Q39) -> 531.54 | H39: 531.54 | Q39: 536
A40: Clark | B40: Evan | C40: 8 | D40: =+MIN(E40:Q40) -> 532.66 | H40: 548.83 | I40: 547.9 | K40: 549.93 | L40: 541.92 | M40: 532.66 | N40: 552.01 | P40: 610.63 | Q40: 600.7
A41: Hartner | B41: Mason | C41: 8 | D41: =+MIN(E41:Q41) -> 535.27 | J41: 535.27 | K41: 538.62 | L41: 536.35 | O41: 540.91 | P41: 549.87 | Q41: 558.8
A42: Peters | B42: Owen | C42: 7 | D42: =+MIN(E42:Q42) -> 540.21 | J42: 545.73 | K42: 610.8 | L42: 548.87 | M42: 540.21 | N42: 554.19 | O42: 604.77 | Q42: 603
A43: Walters | B43: Wesley | C43: 7 | D43: =+MIN(E43:Q43) -> 540.47 | H43: 548.42 | J43: 540.47 | L43: 550.88 | N43: 548.48
A44: Pak | B44: Jordan | C44: 8 | D44: =+MIN(E44:Q44) -> 543.65 | L44: 543.65 | N44: 559.55 | O44: 558.5 | Q44: 557
A45: Becker | B45: Nathan | C45: 8 | D45: =+MIN(E45:Q45) -> 547.29 | H45: 549.88 | J45: 547.29 | K45: 559.53 | L45: 556.46 | M45: 600.6 | N45: 612.42 | O45: 607.41 | P45: 618.26 | Q45: 619.3
A46: Grabowski | B46: Grant | C46: 7 | D46: =+MIN(E46:Q46) -> 547.34 | J46: 547.34 | Q46: 619.1
A47: OConnell | B47: Ciaran | C47: 7 | D47: =+MIN(E47:Q47) -> 549.08 | K47: 549.08 | M47: 549.09 | O47: 604.26 | P47: 555.85 | Q47: 603.6
A48: Brown | B48: Denali | C48: 8 | D48: =+MIN(E48:Q48) -> 550.46 | L48: 550.46 | P48: 603.16 | Q48: 558.4
A49: Pore | B49: Shiv | C49: 8 | D49: =+MIN(E49:Q49) -> 551.79 | H49: 610.17 | J49: 551.79 | K49: 615.06 | L49: 611.01 | M49: 600.8 | N49: 617.22 | P49: 621.03 | Q49: 604.9
A50: Fleissner | B50: Nicholas | C50: 8 | D50: =+MIN(E50:Q50) -> 551.8 | H50: 609.87 | J50: 551.8 | K50: 607.28 | L50: 602.58 | M50: 601.55 | N50: 617.34 | O50: 622.11 | Q50: 736.7
A51: Spence | B51: Jesse | C51: 8 | D51: =+MIN(E51:Q51) -> 555.5 | H51: 555.5 | P51: 614.97 | Q51: 607.9
A52: Pisani | B52: William | C52: 7 | D52: =+MIN(E52:Q52) -> 602.81 | N52: 602.81 | O52: 605.8 | Q52: 606.4
A53: Pandey | B53: Samanyu | C53: 7 | D53: =+MIN(E53:Q53) -> 606.7 | Q53: 606.7
A54: Schomburg | B54: Gavin | C54: 7 | D54: =+MIN(E54:Q54) -> 607.4 | Q54: 607.4
A55: Kucler | B55: Greyson | C55: 7 | D55: =+MIN(E55:Q55) -> 609.83 | H55: 618.6 | K55: 614.55 | M55: 609.83 | N55: 615.89 | O55: 616.96 | Q55: 627.5
A56: Mendon | B56: Aarav | C56: 8 | D56: =+MIN(E56:Q56) -> 613.5 | Q56: 613.5
A57: Khalid | B57: Taimur | C57: 8 | D57: =+MIN(E57:Q57) -> 617.76 | K57: 618.26 | M57: 617.76 | N57: 624.07 | O57: 621.39 | Q57: 636.4
A58: Patel | B58: Hari | C58: 8 | D58: =+MIN(E58:Q58) -> 624.29 | N58: 624.29 | O58: 627.84 | Q58: 628.6
A59: Brown | B59: McKinley | C59: 8 | D59: =+MIN(E59:Q59) -> 626.7 | Q59: 626.7
A60: Batchelet | B60: James | C60: 7 | D60: =+MIN(E60:Q60) -> 627.2 | Q60: 627.2
A61: Gibson | B61: Andrew | C61: 7 | D61: =+MIN(E61:Q61) -> 646.84 | O61: 646.84
A62: Palled | B62: Navik | C62: 7 | D62: =+MIN(E62:Q62) -> 657.3 | Q62: 657.3
A63: Choudhari | B63: Tavish | C63: 8 | D63: =+MIN(E63:Q63) -> 742.3 | Q63: 742.3
A64: Pandya | B64: Parsan | C64: 7 | D64: =+MIN(E64:Q64) -> 750.7 | Q64: 750.7
A66: 2024 Mile
A67: Last Name | B67: First Name | D67: Best | E67: 5-10 But Inv | F67: 5-8 Mile | G67: 5-8 NA Inv | H67: 5-6 @But | I67: 4-29 @SVR | J67: 4-29 @SVR | K67: 4-25 Shaler | L67: 4-22 @FC | M67: 4-18 SV | N67: 4-15 Ha | O67: 4-4 Hi | P67: 3-21 @ NH | Q67: 3-15 PR | R67: Tryout
A68: Hirwani | B68: Gatik | C68: 7 | D68: =+MIN(E68:R68) -> 451.59 | E68: 451.59 | F68: 459.28 | G68: 457.63 | H68: 504.61 | I68: 458 | J68: 504.8 | K68: 501.62 | L68: 502.6 | M68: 502.58 | N68: 511.09 | P68: 522.8 | Q68: 515.8 | R68: 526.7
A69: Kaminski | B69: Brennan | C69: 8 | D69: =+MIN(E69:R69) -> 458.09 | E69: 458.7 | F69: 459.7 | G69: 458.09 | H69: 510.3 | J69: 510.3 | K69: 505.05 | L69: 503.1 | M69: 503.16 | N69: 512.41 | P69: 516.6 | Q69: 512.3
A70: Patterson | B70: Sam | C70: 8 | D70: =+MIN(E70:R70) -> 511.51 | J70: 513.4 | K70: 511.51 | O70: 526.84 | R70: 531.3
A71: Hou | B71: Nathan | C71: 8 | D71: =+MIN(E71:R71) -> 512.43 | J71: 518.2 | K71: 512.43 | O71: 531.59 | R71: 541.6
A72: Smith | B72: Denny | C72: 8 | D72: =+MIN(E72:R72) -> 517.02 | K72: 517.02 | R72: 535.9
A73: Pfeiffer | B73: Jack | C73: 8 | D73: =+MIN(E73:R73) -> 520.84 | E73: 523.98 | H73: 527.41 | K73: 520.84 | M73: 539.03 | N73: 526.41 | O73: 527.38 | P73: 534.7 | Q73: 530.7 | R73: 549.8
A74: Ferguson | B74: Owen | C74: 8 | D74: =+MIN(E74:R74) -> 520.9 | H74: 527.66 | K74: 526.69 | L74: 524.7 | M74: 520.9 | N74: 529.79 | O74: 541 | P74: 537.8 | Q74: 539.5 | R74: 547.9
A75: Howe | B75: Caiden | C75: 8 | D75: =+MIN(E75:R75) -> 522.64 | H75: 524.88 | K75: 522.64 | L75: 530.7 | M75: 524.21 | N75: 533.45 | P75: 542.3 | Q75: 536.4 | R75: 546.5
A76: Clarkson | B76: Colin | C76: 7 | D76: =+MIN(E76:R76) -> 529.49 | H76: 529.49 | K76: 529.64 | L76: 530.8 | M76: 534.16 | N76: 540.46 | O76: 539.62 | R76: 547.2
A77: Calhoun | B77: Adam | C77: 8 | D77: =+MIN(E77:R77) -> 533.89 | K77: 533.89 | R77: 557.3
A78: Martino | B78: Leo | C78: 8 | D78: =+MIN(E78:R78) -> 534.1 | H78: 535.84 | K78: 534.27 | M78: 534.1 | N78: 535.37 | O78: 539.32
A79: Haas | B79: Thomas | C79: 7 | D79: =+MIN(E79:R79) -> 542.3 | P79: 542.3 | Q79: 552.7 | R79: 548.6
A80: Hartner | B80: Mason | C80: 7 | D80: =+MIN(E80:R80) -> 540.71 | H80: 540.71 | K80: 546.44 | L80: 544.7 | M80: 546.92 | N80: 550.75 | R80: 608.6
A81: Becker | B81: Nathan | C81: 7 | D81: =+MIN(E81:R81) -> 542.91 | H81: 542.91 | K81: 557.35 | L81: 551 | M81: 545.42 | N81: 550 | O81: 601.75 | Q81: 558 | R81: 614.7
A82: Parker | B82: Joel | C82: 7 | D82: =+MIN(E82:R82) -> 545.72 | K82: 545.72 | P82: 603.9 | Q82: 557.3 | R82: 608
A83: Zertuche | B83: Diego | C83: 8 | D83: =+MIN(E83:R83) -> 546.09 | H83: 558.85 | K83: 557.48 | M83: 546.09 | N83: 551.05 | O83: 613.47 | Q83: 559.5 | R83: 620.4
A84: Razani | B84: Dariush | C84: 7 | D84: =+MIN(E84:R84) -> 548.3 | R84: 548.3
A85: Verma | B85: Moksh | C85: 7 | D85: =+MIN(E85:R85) -> 541.65 | H85: 541.65 | K85: 549.16 | L85: 553.4 | Q85: 559.9 | R85: 615.6
A86: Mangan | B86: Neil | C86: 7 | D86: =+MIN(E86:R86) -> 549.93 | K86: 549.93 | Q86: 553
A87: Sturzinger | B87: Marcus | C87: 8 | D87: =+MIN(E87:R87) -> 555.1 | O87: 604.85 | P87: 557.5 | Q87: 555.1 | R87: 606.7
A88: Leszczynski | B88: Anderson | C88: 8 | D88: =+MIN(E88:R88) -> 555.8 | N88: 601.57 | O88: 614.71 | Q88: 555.8 | R88: 621
A89: LaQuatra | B89: Cooper | C89: 8 | D89: =+MIN(E89:R89) -> 557.75 | K89: 557.75
A90: Handel | B90: Lucas | C90: 8 | D90: =+MIN(E90:R90) -> 558.45 | K90: 558.45 | M90: 615.01 | O90: 631.59
A91: Sturzinger | B91: Dominic | C91: 7 | D91: =+MIN(E91:R91) -> 601.2 | K91: 601.2 | Q91: 628.3 | R91: 614
A92: Brown | B92: Denali | C92: 7 | D92: =+MIN(E92:R92) -> 604.2 | L92: 604.2 | M92: 628.02 | Q92: 630.2 | R92: 625.8
A93: Durny | B93: Bryce | C93: 8 | D93: =+MIN(E93:R93) -> 605.95 | K93: 605.95 | R93: 615.9
A94: Wach | B94: Nathan | C94: 8 | D94: =+MIN(E94:R94) -> 609.7 | R94: 609.7
A95: Brooks | B95: Gannon | C95: 7 | D95: =+MIN(E95:R95) -> 609.72 | K95: 609.72 | M95: 618.99 | N95: 614.49 | O95: 624.34 | Q95: 628.9 | R95: 626.6
A96: Wang | B96: Anthony | C96: 7 | D96: =+MIN(E96:R96) -> 609.73 | K96: 609.73 | R96: 615.1
A97: Eich | B97: Clifford | C97: 7 | D97: =+MIN(E97:R97) -> 611.84 | K97: 611.84 | O97: 622.4 | Q97: 630.4 | R97: 637.6
A98: Balderas | B98: Gabriel | C98: 8 | D98: =+MIN(E98:R98) -> 611.95 | K98: 611.95 | M98: 619.2 | N98: 620.39 | O98: 622.74 | Q98: 621.6 | R98: 616.2
A99: Eich | B99: Conner | C99: 7 | D99: =+MIN(E99:R99) -> 613.44 | K99: 613.44 | O99: 622.41 | Q99: 644.1 | R99: 637.2
A100: Pak | B100: Jordan | C100: 7 | D100: =+MIN(E100:R100) -> 613.86 | M100: 613.86 | N100: 648.85 | Q100: 621.3 | R100: 619.9
A101: Hsu | B101: Kendrick | C101: 7 | D101: =+MIN(E101:R101) -> 620.9 | Q101: 620.9
A102: Brown | B102: McKinley | C102: 7 | D102: =+MIN(E102:R102) -> 621.5 | N102: 637.42 | O102: 633.26 | Q102: 658.6 | R102: 621.5
A103: Dodd | B103: Mason | C103: 7 | D103: =+MIN(E103:R103) -> 639.1 | R103: 639.1
A104: Cornelius | B104: Drew | C104: 8 | D104: =+MIN(E104:R104) -> 659.7 | Q104: 659.7
A105: Karlovits | B105: Ethan | C105: 7 | D105: =+MIN(G105:R105) -> 710.53 | K105: 710.53 | N105: 744.01 | O105: 746.29
...

Sheet Girls 2 Mile
A1: 2026 2 Mile
A2: Last Name | B2: First Name | D2: Best | J2: 4-20 SV | K2: 4-15 FC | L2: 4-13 Sh | M2: 4-1 Mars | N2: 3-30 Hamp | O2: 3-27 NH | P2: 3-20 PR | Q2: Tryout
A3: Burgbacher | B3: Sydney | C3: 8 | D3: =+MIN(E3:Q3) -> 1231.54 | J3: 1231.54 | L3: 1253.24 | N3: 1240.88 | P3: 1251.95 | Q3: 1337.28
A4: Antoszewski | B4: Ava | C4: 7 | D4: =+MIN(E4:Q4) -> 1243.93 | J4: 1243.93 | L4: 1331.96
A5: Ryan | B5: Allison | C5: 8 | D5: =+MIN(E5:Q5) -> 1251.32 | J5: 1309.78 | L5: 1308.55 | N5: 1251.32 | P5: 1259.16 | Q5: 1346.48
A6: Smith | B6: Ellie | C6: 8 | D6: =+MIN(E6:Q6) -> 1252.07 | K6: 1315.64 | M6: 1252.07 | O6: 1303.32
A7: Coffman | B7: Margaret | C7: 8 | D7: =+MIN(E7:Q7) -> 1252.55 | J7: 1252.55 | L7: 1313.39 | N7: 1302.05 | Q7: 1335.38
A8: Stuart | B8: Raegan | C8: 7 | D8: =+MIN(E8:Q8) -> 1327.87 | K8: 1405.54 | M8: 1327.87 | Q8: 1357.58
A9: Yurky | B9: Avalyn | C9: 8 | D9: =+MIN(E9:Q9) -> 1331.6 | J9: 1337.35 | K9: 1335.64 | M9: 1331.65 | N9: 1339.94 | O9: 1331.6 | P9: 1357.96 | Q9: 1424.48
A10: Frazer | B10: Mollie | C10: 7 | D10: =+MIN(E10:Q10) -> 1332.31 | J10: 1352.59 | K10: 1428.94 | L10: 1459.72 | N10: 1332.31
A11: Gilberti | B11: Lucienne | C11: 8 | D11: =+MIN(E11:Q11) -> 1400.68 | Q11: 1400.68
A13: 2025 2 Mile
A14: Last Name | B14: First Name | D14: Best | E14: 5-10 But Inv | F14: 5-7 2-Mile | G14: 5-7 NA Inv | H14: 5-5 But | I14: 4-22 SV | J14: 4-15 FC | K14: 4-11 Sh | L14: 4-3 Mars | M14: 3-31 Hamp | N14: 3-20 NH | O14: 3-17 PR | P14: Tryout
A15: Strelick | B15: Samantha | C15: 8 | D15: =+MIN(E15:P15) -> 1116.67 | E15: 1116.67 | F15: 1127.4 | G15: 1124 | I15: 1123.32 | J15: 1146.5 | L15: 1146.55 | N15: 1210.55
A16: Burgbacher | B16: Sydney | C16: 7 | D16: =+MIN(E16:P16) -> 1234.1 | E16: 1235.34 | F16: 1237.72 | G16: 1234.1 | H16: 1240.01 | K16: 1254.41 | M16: 1344.42 | P16: 1434.8
A17: Smith | B17: Ellie | C17: 7 | D17: =+MIN(E17:P17) -> 1242.09 | E17: 1243.12 | H17: 1253.6 | I17: 1242.09 | K17: 1255.27 | L17: 1316.81
A18: Richmond | B18: Elizabeth | C18: 8 | D18: =+MIN(E18:P18) -> 1259.29 | J18: 1259.29 | L18: 1345.64 | O18: 1322.44 | P18: 1353.3
A19: Natali | B19: Cailyn | C19: 8 | D19: =+MIN(E19:P19) -> 1317.97 | J19: 1317.97 | L19: 1337.53 | N19: 1335.86
A20: Coffman | B20: Margaret | C20: 7 | D20: =+MIN(E20:P20) -> 1335.28 | I20: 1357.09 | L20: 1335.28 | N20: 1347.43 | O20: 1426.58 | P20: 1433.1
A21: Yurky | B21: Avalyn | C21: 7 | D21: =+MIN(E21:P21) -> 1357.15 | H21: 1407.44 | I21: 1426.37 | K21: 1357.15 | L21: 1403.75 | M21: 1429.9 | N21: 1451.77 | O21: 1435.06 | P21: 1540.5
A22: Mountain | B22: Nora | C22: 7 | D22: =+MIN(E22:P22) -> 1357.63 | N22: 1357.63
A23: Pirring | B23: Kiralay | C23: 7 | D23: =+MIN(E23:P23) -> 1437.97 | N23: 1437.97 | P23: 1531
A27: 2024 2 Mile
A28: Last Name | B28: First Name | D28: Best | E28: 5-10 But Inv | F28: 5-8 2-Mile | G28: 5-8 NA Inv | H28: 5-6 @But | I28: 4-25 Shaler | J28: 4-22 @FC | K28: 4-18 SV | L28: 4-15 Ha | M28: 4-4 Hi | N28: 3-21 @NH | O28: 3-15 PR | P28: Tryout
A29: Strelick | B29: Samantha | C29: 7 | D29: =+MIN(E29:P29) -> 1138.42 | E29: 1138.42 | F29: 1157.03 | G29: 1153.52 | I29: 1146.82 | K29: 1151 | L29: 1212.77 | N29: 1217.3 | O29: 1223 | P29: 1241.9
A30: Keiser | B30: Madelyn | C30: 7 | D30: =+MIN(E30:P30) -> 1252.85 | E30: 1252.85 | F30: 1311.58 | G30: 1307.89 | H30: 1300.71 | J30: 1306.5 | K30: 1312.96 | L30: 1321.53
A31: Lucas | B31: Mary | C31: 8 | D31: =+MIN(E31:P31) -> 1255 | J31: 1255
A32: Nocera | B32: Leila | C32: 8 | D32: =+MIN(E32:P32) -> 1301.51 | E32: 1301.51 | I32: 1303.67 | J32: 1312 | K32: 1313.16 | L32: 1342.42 | M32: 1414.22 | N32: 1449.1 | O32: 1434.3 | P32: 1447
A33: Natali | B33: Cailyn | C33: 7 | D33: =+MIN(E33:P33) -> 1338.1 | H33: 1346.36 | J33: 1343.7 | L33: 1356.91 | N33: 1419.2 | O33: 1338.1 | P33: 1346.7
A34: Dyga | B34: Evangeline | C34: 7 | D34: =+MIN(E34:P34) -> 1401.95 | H34: 1505.34 | I34: 1401.95 | J34: 1417.4 | K34: 1426.79 | L34: 1456.28 | M34: 1509.13
A35: Richmond | B35: Elizabeth | C35: 7 | D35: =+MIN(E35:P35) -> 1416.3 | J35: 1416.3 | P35: 1446.7
A36: Rempe | B36: Gabrielle | C36: 8 | D36: =+MIN(E36:P36) -> 1448.3 | K36: 1454.32 | L36: 1458.89 | M36: 1515.32 | N36: 1504.3 | O36: 1504.9 | P36: 1448.3
D37: =+MIN(E37:P37) -> 0
A38: 2023 2 Mile
A39: Last Name | B39: First Name | C39: Grade | D39: Best | E39: 5-12 @BI | F39: 5-10 NA Inv | G39: 5-4 But | H39: 4-27 @PR | I39: 4-24 FC | J39: 4-20 SV | K39: 4-18 TT | L39: 4-12 @Sh | M39: 4-10 Ha/WH | N39: 3-28 Hi | O39: 3-21 NH | P39: Tryout
A40: Lucas | B40: Mary | C40: 7 | D40: =+MIN(E40:P40) -> 1206.3 | G40: 1206.3 | I40: 1237.9 | K40: 1226.8 | M40: 1227.7 | P40: 1326.3
A41: Grabowski | B41: Ally | C41: 7 | D41: =+MIN(E41:P41) -> 1208.6 | E41: 1217.71 | F41: 1213.55 | G41: 1208.6 | J41: 1241
A42: Ries | B42: Lily | C42: 8 | D42: =+MIN(E42:P42) -> 1213.67 | E42: 1213.67 | H42: 1215.75 | N42: 1237.1 | P42: 1226.8
A43: Tengowski | B43: Julia | C43: 8 | D43: =+MIN(E43:P43) -> 1239.67 | E43: 1320.36 | F43: 1241.66 | G43: 1256.1 | H43: 1239.67 | J43: 1300.8 | K43: 1250.1 | L43: 1304.63 | M43: 1310.1 | N43: 1305.1 | O43: 1304.7
A44: Pizon | B44: Gabriela | C44: 8 | D44: =+MIN(E44:P44) -> 1311.2 | G44: 1311.2 | I44: 1327.7 | L44: 1324.34 | M44: 1344.6 | N44: 1345.6 | O44: 1337.3
A45: Nocera | B45: Leila | C45: 7 | D45: =+MIN(E45:P45) -> 1316.9 | G45: 1316.9 | H45: 1345.2 | I45: 1337.9 | J45: 1350.3 | L45: 1352.24 | P45: 1446.4
A46: Peters | B46: Kyleigh | C46: 7 | D46: =+MIN(E46:P46) -> 1349 | H46: 1349 | J46: 1426.6 | K46: 1417 | M46: 1439 | N46: 1401.7 | O46: 1404.6 | P46: 1537.4
A47: Humphrey | B47: Lydia | C47: 8 | D47: =+MIN(E47:P47) -> 1356.3 | O47: 1356.3 | P47: 1445.6
A48: Rempe | B48: Gabrielle | C48: 7 | D48: =+MIN(E48:P48) -> 1403 | G48: 1403 | H48: 1433.48 | J48: 1435.8 | K48: 1453.5 | L48: 1433.74 | N48: 1422.9 | O48: 1424.9 | P48: 1519.8
A49: Goetz | B49: Addison | C49: 8 | D49: =+MIN(E49:P49) -> 1447.19 | H49: 1447.19 | N49: 1532.9 | O49: 1452.2 | P49: 1630.3
A50: Grunz | B50: Eva | C50: 7 | D50: =+MIN(E50:P50) -> 1500.9 | P50: 1500.9
A51: Qian | B51: Misaki | C51: 7 | D51: =+MIN(E51:P51) -> 1545.3 | P51: 1545.3
A52: Mazur | B52: Sarah | C52: 7 | D52: =+MIN(E52:P52) -> 1554.7 | O52: 1554.7 | P52: 1639
A53: Swoger | B53: Olivia | C53: 7 | D53: =+MIN(E53:P53) -> 1606.1 | O53: 1606.1 | P53: 1639.2
A54: Donnelly | B54: Harlie | C54: 7 | D54: =+MIN(E54:P54) -> 1648 | P54: 1648
A57: 2022 2 Mile
A58: Last | B58: First | C58: Gr | D58: Best | E58: ButI 5-13 | F58: But 5/10 | G58: NAIn 5/6 | H58: Mars I 4/28 | I58: FC 4/25 | J58: SV 4/20 | K58: Ha 4/11 | L58: Mars 4/7 | M58: PR 4/6 | N58: NH 3/30 | O58: TT 3/22 | P58: AT 3/16
A59: Getz | B59: Anna | C59: 8 | D59: =+MIN(E59:P59) -> 1238.4 | E59: 1251.2 | G59: 1241.1 | H59: 1238.4 | J59: 1303.8 | K59: 1304.6 | M59: 1258.5 | N59: 1322.2 | O59: 1347.5 | P59: 1337.5
A60: Pagnotto | B60: Teresa | C60: 8 | D60: =+MIN(E60:P60) -> 1247.3 | F60: 1336.9 | G60: 1255.5 | H60: 1247.3 | I60: 1307.9 | J60: 1345.6 | L60: 1302.2 | M60: 1329.6 | N60: 1320.1 | O60: 1337.5 | P60: 1347.5
A61: Pizon | B61: Gabriela | C61: 7 | D61: =+MIN(E61:P61) -> 1350.5 | E61: 1350.5 | F61: 1406.7 | K61: 1422.18 | N61: 1449.4 | O61: 1509.8 | P61: 1521.1
A62: Humphrey | B62: Lydia | C62: 7 | D62: =+MIN(E62:P62) -> 1354.5 | E62: 1354.5 | F62: 1439.9 | I62: 1428.3 | J62: 1405.1 | K62: 1432.7 | L62: 1509 | M62: 1425.9 | O62: 1451.2 | P62: 1509.8
A63: Ries | B63: Lily | C63: 7 | D63: =+MIN(E63:P63) -> 1447.6 | N63: 1504 | O63: 1447.6 | P63: 1451.2
A64: Strzempek | B64: Anna | C64: 8 | D64: =+MIN(E64:P64) -> 1510.5 | I64: 1510.5 | O64: 1528.7
A65: Parker | B65: Jenna | C65: 7 | D65: =+MIN(E65:P65) -> 1522.1 | J65: 1522.1 | L65: 1604.4 | P65: 1616.3
A66: Beemer | B66: Jordan | C66: 7 | D66: =+MIN(E66:P66) -> 1525.8 | F66: 1601.6 | I66: 1527.7 | O66: 1525.8
A67: Handel | B67: Elinor | C67: 8 | D67: =+MIN(E67:P67) -> 1616.3 | O67: 1616.3 | P67: 1645.6
A68: Goetz | B68: Addison | C68: 7 | D68: =+MIN(E68:P68) -> 1634.3 | O68: 1634.3
A69: Warner | B69: Mary | C69: 8 | D69: =+MIN(E69:P69) -> 1636.7 | O69: 1636.7 | P69: 1641.1
A70: Kucler | B70: Violet | C70: 8 | D70: =+MIN(E70:P70) -> 1641.1 | O70: 1641.1
A71: Tirmizi | B71: Faatima | C71: 8 | D71: =+MIN(E71:P71) -> 1708.2 | O71: 1708.2
A73: 2021 2 Mile
A74: Last | B74: First | C74: Gr | D74: Best | E74: But In5/14 | F74: But 5/11 | G74: NAIn 5/6 | H74: FC 4/26 | I74: SV 4/20 | J74: Hamp 4/16 | K74: PR 4/13 | L74: MM 4/8 | M74: NH 3/29 | N74: TT 3/10
A75: Kuder | B75: Sydney | C75: 8 | D75: =+MIN(E75:N75) -> 1137.2 | E75: 1149.5 | G75: 1137.2 | H75: 1154.9 | K75: 1202.2 | L75: 1208
A76: Swirsding | B76: Camille | C76: 8 | D76: =+MIN(E76:N76) -> 1203.1 | E76: 1203.1 | G76: 1207.4 | H76: 1229.2 | I76: 1212 | J76: 1211.6 | K76: 1207.8 | L76: 1221.7 | N76: 1212.8
A77: Pizon | B77: Elizabeth | C77: 8 | D77: =+MIN(E77:N77) -> 1212 | E77: 1212 | F77: 1250 | H77: 1258.9 | K77: 1237.8 | L77: 1326.3 | M77: 1254.2 | N77: 1329.1
A78: Getz | B78: Anna | C78: 7 | D78: =+MIN(E78:N78) -> 1300.3 | F78: 1300.3 | H78: 1309.8 | I78: 1311.1 | N78: 1333
A79: Warner | B79: Mary | C79: 7 | D79: =+MIN(E79:N79) -> 1336.1 | J79: 1336.1
A80: Pagnotto | B80: Tess | C80: 7 | D80: =+MIN(E80:N80) -> 1340.5 | H80: 1340.5
A81: Qian | B81: Yuki | C81: 8 | D81: =+MIN(E81:N81) -> 1350.8 | H81: 1350.8
A82: Neff | B82: Emma | C82: 8 | D82: =+MIN(E82:N82) -> 1356.3 | F82: 1356.3 | H82: 1418.1 | I82: 1356.5 | J82: 1356.7
A84: 2019 2 Mile
A85: Last | B85: First | C85: Gr | D85: Best | E85: NA Inv 5/2 | F85: Mars I 4/25 | G85: Butler 4/24 | H85: SV 4/16 | I85: FC 4/10 | J85: Shaler 4/5 | K85: Knoch 4/3 | L85: NH 3/27 | M85: TT 3/20 | N85: TT 3/13
A86: Sundgren | B86: Lexi | C86: 8 | D86: =MIN(E86:N86) -> 1131 | E86: 1150.4 | F86: 1140.3 | I86: 1131 | K86: 1140.9 | L86: 1158.6 | M86: 1152.3
A87: Getz | B87: Maia | C87: 7 | D87: =MIN(E87:N87) -> 1251.8 | E87: 1251.8 | F87: 1252.7 | G87: 1324.8 | H87: 1310.6 | I87: 1325.6 | J87: 1322 | K87: 1349.1 | L87: 1334.2 | M87: 1356.6 | N87: 1413.9
A88: Thompson | B88: Rebecca | C88: 8 | D88: =+MIN(E88:N88) -> 1319.3 | G88: 1453.4 | H88: 1319.3 | I88: 1324.2 | K88: 1353.5 | N88: 1519.4
A89: Kynaston | B89: Eva | C89: 7 | D89: =MIN(E89:N89) -> 1324.8 | H89: 1324.8
A90: Zubialde | B90: Arrieta | C90: 8 | D90: =+MIN(E90:N90) -> 1329.4 | G90: 1349.8 | J90: 1329.4 | N90: 1512.1
A91: Link | B91: Jessica | C91: 8 | D91: =+MIN(E91:N91) -> 1338.3 | K91: 1338.3 | M91: 1351.7
A92: Kollitz | B92: Sophia | C92: 8 | D92: =MIN(E92:N92) -> 1355.5 | G92: 1401.5 | I92: 1358.5 | J92: 1355.5 | L92: 1502.7
A93: McGoey | B93: Erin | C93: 7 | D93: =+MIN(E93:N93) -> 1402.5 | G93: 1402.5 | K93: 1406.3 | L93: 1432.5 | M93: 1431.4 | N93: 1414.1
A94: Kennedy | B94: Gillian | C94: 7 | D94: =MIN(E94:N94) -> 1508.7 | M94: 1508.7
A95: Gauntner | B95: Isabella | C95: 7 | D95: =+MIN(E95:N95) -> 1621.7 | M95: 1621.7
A96: Stewart | B96: Olivia | C96: 7 | D96: =MIN(E96:N96) -> 1633.7 | M96: 1633.7
A97: Fu | B97: Lina | C97: 8 | D97: =+MIN(E97:N97) -> 1719.2 | M97: 1719.2
A98: Eggert | B98: Aleah | C98: 7 | D98: =MIN(E98:N98) -> 1736.8 | M98: 1736.8
A99: Wang | B99: Hannah | C99: 7 | D99: =+MIN(E99:N99) -> 2045 | M99: 2045
A101: 2018 2 Mile
A102: Last | B102: First | C102: Gr | D102: Best | E102: SV 5/8 | F102: NH 5/7 | G102: ButIn 5/5 | H102: NAInv 5/3 | I102: Mars 4/26 | J102: But 4/24 | K102: FC 4/11 | L102: P-R 4/6 | M102: TT (AT)4/4 | N102: AT 3/19
A103: Sundgren | B103: Lexi | C103: 7 | D103: =MIN(E103:P103) -> 1141.2 | K103: 1141.2 | M103: 1236
A104: Hockenberry | B104: Rachel | C104: 8 | D104: =MIN(E104:P104) -> 1155.4 | G104: 1208.1 | H104: 1155.4 | I104: 1158.9 | J104: 1201 | K104: 1211.7 | M104: 1312
A105: Mlecko | B105: Maura | C105: 8 | D105: =MIN(E105:P105) -> 1157.7 | E105: 1157.7 | G105: 1213.7 | H105: 1159.7 | I105: 1204 | L105: 1240.1 | M105: 1302 | N105: 1313
A106: Waldo | B106: Sam | C106: 8 | D106: =MIN(E106:P106) -> 1254.5 | J106: 1254.5 | M106: 1435 | N106: 1456
A107: Podnar | B107: Sam | C107: 8 | D107: =MIN(E107:P107) -> 1316.7 | E107: 1316.7 | G107: 1338.1 | J107: 1320.1 | L107: 1333.5 | M107: 1357 | N107: 1351
A108: Thompson | B108: Rebecca | C108: 7 | D108: =MIN(E108:P108) -> 1351.5 | E108: 1351.5 | K108: 1405 | M108: 1528
A109: Link | B109: Jessica | C109: 7 | D109: =MIN(E109:P109) -> 1359 | K109: 1359 | M109: 1445 | N109: 1512
...

Sheet Boys 2 Mile
A1: 2026 2 Mile
A2: Last Name | B2: First Name | D2: Best | J2: 4-20 SV | K2: 4-15 FC | L2: 4-13 Sh | M2: 4-1 Mars | N2: 3-30 Hamp | O2: 3-27 NH | P2: 3-20 PR | Q2: Tryout
A3: Christian | B3: James | C3: 8 | D3: =+MIN(E3:Q3) -> 1054.9 | J3: 1109.54 | M3: 1054.9 | O3: 1117.61 | Q3: 1203.04
A4: Deitch | B4: Bryson | C4: 8 | D4: =+MIN(E4:Q4) -> 1137.49 | K4: 1154.94 | M4: 1137.49
A5: Intini | B5: Ian | C5: 8 | D5: =+MIN(E5:Q5) -> 1145.06 | J5: 1145.1 | K5: 1157.54 | M5: 1145.06 | O5: 1210.47 | P5: 1218.21 | Q5: 1217.44
A6: Grabowski | B6: Grant | C6: 8 | D6: =+MIN(E6:Q6) -> 1158.71 | L6: 1225.2 | M6: 1158.71 | O6: 1159.19
A7: Kucler | B7: Greyson | C7: 8 | D7: =+MIN(E7:Q7) -> 1219.61 | N7: 1219.61 | O7: 1241.53 | P7: 1226.06 | Q7: 1326.34
A8: Paylo | B8: James | C8: 7 | D8: =+MIN(E8:Q8) -> 1248.09 | L8: 1258.74 | N8: 1248.09
A9: Stern | B9: Andrei | C9: 7 | D9: =+MIN(E9:Q9) -> 1255.94 | N9: 1255.94
A10: Tseng | B10: Gabriel | C10: 7 | D10: =+MIN(E10:Q10) -> 1302.74 | K10: 1302.74 | M10: 1304.41 | O10: 1311.4 | Q10: 1442.24
A11: Webber-Plank | B11: Andrew | C11: 7 | D11: =+MIN(E11:Q11) -> 1303.95 | K11: 1325.04 | M11: 1303.95 | O11: 1314.95 | Q11: 1420.44
A12: Houser | B12: Drew | C12: 7 | D12: =+MIN(E12:Q12) -> 1331.64 | K12: 1331.64
A13: Thottempudi | B13: Moksh | C13: 8 | D13: =+MIN(E13:Q13) -> 1558.34 | Q13: 1558.34
A14: Malapaka | B14: Saibhargav | C14: 7 | D14: =+MIN(E14:Q14) -> 1625.54 | Q14: 1625.54
A15: Kitzes | B15: Eli | C15: 7 | D15: =+MIN(E15:Q15) -> 1743.14 | Q15: 1743.14
A18: 2025 2 Mile
A19: Last Name | B19: First Name | D19: Best | E19: 5-10 But Inv | F19: 5-7 2-Mile | G19: 5-7 NA Inv | H19: 5-5 But | I19: 4-22 SV | J19: 4-15 FC | K19: 4-11 Sh | L19: 4-3 Mars | M19: 3-31 Hamp | N19: 3-20 NH | O19: 3-17 PR | P19: Tryout
A20: Hirwani | B20: Gatik | C20: 8 | D20: =+MIN(E20:P20) -> 1006.5 | E20: 1006.5 | I20: 1015.61 | K20: 1047.91
A21: Clarkson | B21: Colin | C21: 8 | D21: =+MIN(E21:P21) -> 1057.05 | E21: 1120.16 | K21: 1057.05
A22: Christian | B22: James | C22: 7 | D22: =+MIN(E22:P22) -> 1120.09 | E22: 1149.33 | F22: 1414.04 | G22: 1409.5 | I22: 1127.88 | J22: 1127.08 | K22: 1131.35 | L22: 1120.09 | M22: 1128.13 | N22: 1131.96 | O22: 1127.34 | P22: 1154.3
A23: Sturzinger | B23: Dominic | C23: 8 | D23: =+MIN(E23:P23) -> 1134.7 | F23: 1138.31 | G23: 1134.7 | O23: 1215.99 | P23: 1257.5
A24: Kerzmann | B24: Holden | C24: 8 | D24: =+MIN(E24:P24) -> 1151.56 | H24: 1151.56 | J24: 1212.33 | L24: 1158 | N24: 1224.77 | P24: 1302.9
A25: Grabowski | B25: Grant | C25: 7 | D25: =+MIN(E25:P25) -> 1221.28 | H25: 1221.28 | K25: 1237.51 | L25: 1237.16 | M25: 1245.89 | O25: 1233.81 | P25: 1317.5
A26: Walters | B26: Wesley | C26: 7 | D26: =+MIN(E26:P26) -> 1234.23 | J26: 1237.86 | L26: 1237.42 | N26: 1318.98 | O26: 1234.23 | P26: 1316.9
A27: Spence | B27: Jesse | C27: 8 | D27: =+MIN(E27:P27) -> 1239.67 | I27: 1239.67 | L27: 1254.46 | M27: 1240.62 | N27: 1301.05 | P27: 1333
A28: Clark | B28: Evan | C28: 8 | D28: =+MIN(E28:P28) -> 1246.09 | N28: 1246.09 | P28: 1304.9
A29: Pandey | B29: Samanyu | C29: 7 | D29: =+MIN(E29:P29) -> 1252.01 | H29: 1315.05 | I29: 1252.01 | J29: 1311.53 | K29: 1322.26 | L29: 1331.23 | M29: 1339.3 | P29: 1342.2
A30: Sowa | B30: James | C30: 7 | D30: =+MIN(E30:P30) -> 1252.8 | H30: 1309.79 | I30: 1252.8 | J30: 1310.82 | K30: 1309.95 | L30: 1332.54 | M30: 1327.09 | P30: 1416.7
A31: Peters | B31: Owen | C31: 7 | D31: =+MIN(E31:P31) -> 1258.72 | O31: 1258.72 | P31: 1326.8
A32: Schomburg | B32: Gavin | C32: 7 | D32: =+MIN(E32:P32) -> 1258.84 | I32: 1312.34 | M32: 1328.32 | O32: 1258.84 | P32: 1340.3
A33: Pore | B33: Shiv | C33: 8 | D33: =+MIN(E33:P33) -> 1331.59 | N33: 1331.59 | P33: 1350.5
A34: Mancuso | B34: Gabe | C34: 7 | D34: =+MIN(E34:P34) -> 1337.96 | J34: 1337.96
A35: Becker | B35: Nathan | C35: 8 | D35: =+MIN(E35:P35) -> 1420.2 | P35: 1420.2
A36: Kucler | B36: Greyson | C36: 7 | D36: =+MIN(E36:P36) -> 1424.67 | H36: 1424.67
A37: Kale | B37: Ravi | C37: 7 | D37: =+MIN(E37:P37) -> 1624.6 | P37: 1624.6
A39: 2024 2 Mile
A40: Last Name | B40: First Name | D40: Best | E40: 5-10 But Inv | F40: 5-8 2-Mile | G40: 5-8 NA Inv | H40: 5-6 @But | I40: 4-25 Shaler | J40: 4-22 @FC | K40: 4-18 SV | L40: 4-15 Ha | M40: 4-4 Hi | N40: 3-21 @NH | O40: 3-15 PR | P40: Tryout
A41: Hou | B41: Nathan | C41: 8 | D41: =+MIN(E41:P41) -> 1038.45 | E41: 1038.45 | F41: 1056.44 | G41: 1053.35 | H41: 1120.1 | I41: 1116.48 | J41: 1110 | K41: 1117.33 | L41: 1120.45 | N41: 1119.1 | O41: 1127.4 | P41: 1207.6
A42: Patterson | B42: Sam | C42: 8 | D42: =+MIN(E42:P42) -> 1056.93 | E42: 1112.23 | F42: 1101.16 | G42: 1056.93 | H42: 1116.09 | I42: 1145.17 | K42: 1112.69 | L42: 1119.97 | N42: 1118.9 | O42: 1137.1
A43: Smith | B43: Denny | C43: 8 | D43: =+MIN(E43:P43) -> 1116.39 | E43: 1116.39 | H43: 1125.51 | I43: 1124.88 | J43: 1117 | K43: 1121.86 | L43: 1129.39 | M43: 1136.37 | N43: 1132.3 | O43: 1142.9 | P43: 1222.1
A44: Calhoun | B44: Adam | C44: 8 | D44: =+MIN(E44:P44) -> 1152.19 | H44: 1152.19 | I44: 1225.3 | J44: 1158.1 | K44: 1157.08 | L44: 1158.59 | M44: 1201.31 | N44: 1211.2 | O44: 1215.7 | P44: 1238.8
A45: Ferguson | B45: Owen | C45: 8 | D45: =+MIN(E45:P45) -> 1213.8 | O45: 1213.8 | P45: 1229.9
A46: Martino | B46: Leo | C46: 8 | D46: =+MIN(E46:P46) -> 1226.3 | N46: 1226.3 | O46: 1226.9
A47: Pfeiffer | B47: Jack | C47: 8 | D47: =+MIN(E47:P47) -> 1247.49 | H47: 1247.49
A48: Becker | B48: Nathan | C48: 7 | D48: =+MIN(E48:P48) -> 1252.7 | N48: 1252.7 | P48: 1320.3
A49: Wach | B49: Nathan | C49: 8 | D49: =+MIN(E49:P49) -> 1304.5 | O49: 1304.5
A50: Handel | B50: Lucas | C50: 8 | D50: =+MIN(E50:P50) -> 1323.7 | J50: 1323.7 | L50: 1356.69 | O50: 1421.8 | P50: 1431.5
A51: Brown | B51: McKinley | C51: 7 | D51: =+MIN(E51:P51) -> 1324.43 | H51: 1350.07 | I51: 1324.43 | J51: 1333.1
A52: Durny | B52: Bryce | C52: 8 | D52: =+MIN(E52:P52) -> 1349.3 | J52: 1349.3
A53: Clark | B53: Evan | C53: 7 | D53: =+MIN(E53:P53) -> 1350.8 | H53: 1411.45 | J53: 1350.8 | K53: 1352.29 | L53: 1436.52 | M53: 1440.89 | O53: 1410.3 | P53: 1359.5
A56: 2023 2 Mile
A57: Last Name | B57: First Name | D57: Best | E57: 5-12 @BI | F57: 5-10 NA Inv | G57: 5-4 But | H57: 4-27 @PR | I57: 4-24 FC | J57: 4-20 SV | K57: 4-18 TT | L57: 4-12 @Sh | M57: 4-10 Ha/WH | N57: 3-28 Hi | O57: 3-21 NH | P57: Tryout
A58: Patterson | B58: Sam | C58: 7 | D58: =+MIN(E58:P58) -> 1136.27 | E58: 1209.01 | F58: 1136.27 | G58: 1158.5 | H58: 1141.71 | I58: 1217.6 | J58: 1222.6 | K58: 1155.1 | L58: 1205.68 | N58: 1156.2 | O58: 1215.3 | P58: 1219.9
A59: Smith | B59: Denny | C59: 7 | D59: =+MIN(E59:P59) -> 1148.99 | E59: 1148.99 | F59: 1149.14 | G59: 1153.3 | H59: 1203.33 | I59: 1226.2 | J59: 1208.3 | K59: 1201.1 | M59: 1215.4 | N59: 1206.8 | O59: 1206.3 | P59: 1249.8
A60: Kelly | B60: James | C60: 8 | D60: =+MIN(E60:P60) -> 1208.18 | E60: 1216.2 | H60: 1208.18 | J60: 1215.2 | K60: 1351.5 | L60: 1217.07 | M60: 1236.5 | N60: 1238.2 | O60: 1246.1 | P60: 1400.9
A61: Yatchenko | B61: Nick | C61: 8 | D61: =+MIN(E61:P61) -> 1214.9 | O61: 1214.9 | P61: 1239.9
A62: Hou | B62: Nathan | C62: 7 | D62: =+MIN(E62:P62) -> 1218.22 | G62: 1225.7 | H62: 1218.22 | I62: 1238.9 | J62: 1222.4 | K62: 1325.6 | L62: 1304.94 | M62: 1300.5 | N62: 1310.6 | O62: 1309.3 | P62: 1336.1
A63: Szuch | B63: Brandon | C63: 8 | D63: =+MIN(E63:P63) -> 1221.5 | G63: 1252.9 | I63: 1221.5 | J63: 1222.8 | K63: 1236.6
A64: Martino | B64: Leo | C64: 7 | D64: =+MIN(E64:P64) -> 1224.75 | H64: 1224.75 | I64: 1251 | J64: 1228.9 | K64: 1239.7 | L64: 1302.41 | M64: 1257.6 | N64: 1244 | O64: 1308.6 | P64: 1430.4
A65: Calhoun | B65: Adam | C65: 7 | D65: =+MIN(E65:P65) -> 1236.57 | G65: 1238.2 | H65: 1236.57 | I65: 1258.4 | J65: 1308.3 | K65: 1429.9 | L65: 1339.6 | M65: 1316.9 | O65: 1308.6
A66: Workman | B66: Caden | C66: 8 | D66: =+MIN(E66:P66) -> 1255.1 | O66: 1255.1
A67: Sowa | B67: Caiden | C67: 8 | D67: =+MIN(E67:P67) -> 1325 | K67: 1325
A68: Culp | B68: Keegan | C68: 8 | D68: =+MIN(E68:P68) -> 1341.2 | K68: 1341.2
A69: Colangelo | B69: Max | C69: 8 | D69: =+MIN(E69:P69) -> 1342.1 | G69: 1342.1 | M69: 1346.3 | O69: 1413.8 | P69: 1453.5
A70: Webber-Plank | B70: Stephen | C70: 7 | D70: =+MIN(E70:P70) -> 1358.5 | G70: 1358.5 | I70: 1435.6 | M70: 1437.8 | N70: 1440.2 | P70: 1438.6
A71: Schmitt | B71: Andrew | C71: 8 | D71: =+MIN(E71:P71) -> 1412.5 | K71: 1412.5
A72: Leszczynski | B72: Anderson | C72: 7 | D72: =+MIN(E72:P72) -> 1420.4 | P72: 1420.4
A73: Schwer | B73: Ryan | C73: 8 | D73: =+MIN(E73:P73) -> 1441.7 | O73: 1441.7
A74: Sturzinger | B74: Marcus | C74: 7 | D74: =+MIN(E74:P74) -> 1458.3 | P74: 1458.3
A79: 2022 2 Mile
A80: Last | B80: First | C80: Gr | D80: Best | E80: ButI 5-13 | F80: But 5/10 | G80: NAIn 5/6 | H80: Mars I 4/28 | I80: FC 4/25 | J80: SV 4/20 | K80: Ha 4/11 | L80: Mars 4/7 | M80: PR 4/6 | N80: NH 3/30 | O80: TT 3/22 | P80: AT 3/16
A81: Hsu | B81: Odin | C81: 8 | D81: =+MIN(E81:P81) -> 1128.5 | E81: 1137.6 | G81: 1128.5 | H81: 1147.3 | J81: 1210.9 | M81: 1142.2 | O81: 1203.1 | P81: 1302.1
A82: Curren | B82: Jack | C82: 8 | D82: =+MIN(E82:P82) -> 1130.4 | F82: 1202.5 | G82: 1130.4 | H82: 1138.1 | J82: 1214.2 | K82: 1304.24 | M82: 1150.7 | N82: 1215.4 | O82: 1207.1 | P82: 1242.7
A83: Yatchenko | B83: Nickolai | C83: 7 | D83: =+MIN(E83:P83) -> 1216.3 | E83: 1216.3 | I83: 1230.4 | J83: 1302.3 | K83: 1246.5 | L83: 1238.2 | N83: 1251.2 | O83: 1309.5 | P83: 1303.1
A84: Workman | B84: Caden | C84: 7 | D84: =+MIN(E84:P84) -> 1217 | E84: 1217 | F84: 1257.1 | I84: 1234.7 | L84: 1239.5 | O84: 1345.8
A85: Ason | B85: Will | C85: 7 | D85: =+MIN(E85:P85) -> 1222.2 | I85: 1300.8 | J85: 1232.7 | L85: 1240.2 | M85: 1222.2 | N85: 1251.7 | O85: 1311.4 | P85: 1343.3
A86: Lesinski | B86: Daniel | C86: 8 | D86: =+MIN(E86:P86) -> 1235.8 | P86: 1235.8
A87: Perera | B87: Sidath | C87: 8 | D87: =+MIN(E87:P87) -> 1242.2 | J87: 1242.2 | M87: 1246 | N87: 1315.3 | O87: 1253.8 | P87: 1306.7
A88: Yatchenko | B88: Brendan | C88: 7 | D88: =+MIN(E88:P88) -> 1302.9 | P88: 1302.9
A89: Ochoa | B89: David | C89: 7 | D89: =+MIN(E89:P89) -> 1324.3 | F89: 1400.5 | I89: 1324.3 | L89: 1346.4 | P89: 1503.2
A90: Schwer | B90: Ryan | C90: 7 | D90: =+MIN(E90:P90) -> 1340.1 | F90: 1404.9 | I90: 1423.2 | J90: 1340.1 | N90: 1427.7 | O90: 1418.1 | P90: 1530.3
A91: Kelly | B91: James | C91: 7 | D91: =+MIN(E91:P91) -> 1354.7 | I91: 1354.7 | L91: 1405.4 | N91: 1434.8 | O91: 1422.1 | P91: 1440.1
A92: Pan | B92: David | C92: 8 | D92: =+MIN(E92:P92) -> 1431.3 | O92: 1627.2 | P92: 1431.3
A93: Vaccaro | B93: Nicholas | C93: 7 | D93: =+MIN(E93:P93) -> 1437.5 | O93: 1437.5 | P93: 1443.1
A94: Colangelo | B94: Max | C94: 7 | D94: =+MIN(E94:P94) -> 1452.22 | F94: 1528.7 | I94: 1454.9 | J94: 1453.1 | K94: 1452.22 | L94: 1519.3 | M94: 1508.9 | N94: 1540.3 | O94: 1528 | P94: 1459.2
A95: Kuder | B95: Mason | C95: 7 | D95: =+MIN(E95:P95) -> 1454.9 | P95: 1454.9
A96: Hotkowski | B96: John | C96: 8 | D96: =+MIN(E96:P96) -> 1503.5 | J96: 1503.5 | P96: 1652
A97: Weet | B97: Tyler | C97: 8 | D97: =+MIN(E97:P97) -> 1513.1 | L97: 1536.1 | O97: 1513.1 | P97: 1524.1
A98: Ma | B98: Ben | C98: 7 | D98: =+MIN(E98:P98) -> 1659.7 | P98: 1659.7
A100: 2021 2 Mile
A101: Last | B101: First | C101: Gr | D101: Best | E101: But In5/14 | F101: But 5/11 | G101: NAIn 5/6 | H101: FC 4/26 | I101: SV 4/20 | J101: Hamp 4/16 | K101: PR 4/14 | L101: MM 4/8 | M101: NH 3/29 | N101: TT 3/10
A102: Bertram | B102: Jack | C102: 8 | D102: =+MIN(E102:N102) -> 935 | E102: 935 | G102: 941.6 | J102: 941.9 | M102: 952.1 | N102: 1011.7
A103: Klein | B103: Nicholas | C103: 8 | D103: =+MIN(E103:N103) -> 1034.9 | E103: 1034.9 | G103: 1105 | I103: 1045 | K103: 1108.1 | L103: 1049.5 | M103: 1111.8 | N103: 1127.2
A104: Lesinski | B104: Daniel | C104: 7 | D104: =+MIN(E104:N104) -> 1121 | H104: 1121
A105: Link | B105: Jason | C105: 8 | D105: =+MIN(E105:N105) -> 1142.3 | F105: 1142.3 | H105: 1145.9 | I105: 1158.1
A106: DeAngelo | B106: Micah | C106: 8 | D106: =+MIN(E106:N106) -> 1149.2 | E106: 1159.3 | F106: 1149.7 | H106: 1149.2 | I106: 1205.2 | J106: 1155.4 | M106: 1218.4 | N106: 1245.5
A107: Davis | B107: Tyler | C107: 8 | D107: =+MIN(E107:N107) -> 1155.5 | F107: 1155.5 | H107: 1203.5 | I107: 1213.9 | J107: 1218.5 | K107: 1200.9 | L107: 1248.4 | N107: 1308.7
A108: Beemer | B108: Jackson | C108: 8 | D108: =+MIN(E108:N108) -> 1223.7 | I108: 1223.7
A109: Li | B109: Joseph | C109: 8 | D109: =+MIN(E109:N109) -> 1233.3 | I109: 1237.2 | J109: 1233.3 | M109: 1337.6 | N109: 1427.3
A110: Cerimele | B110: Noah | D110: =+MIN(E110:N110) -> 1355.9 | F110: 1355.9
...

Sheet Total times
A1: GIRLS | B1: Mile | E1: BEST | G1: 2 Mile | J1: BEST | L1: 800 | O1: BEST | Q1: 400 | T1: BEST
A2: 1 | B2: ='Girls Mile'!A3 -> Strelick | C2: ='Girls Mile'!B3 -> Addison | D2: ='Girls Mile'!C3 -> 7 | E2: ='Girls Mile'!D3 -> 537.34 | F2: 1 | G2: ='Girls 2 Mile'!A3 -> Burgbacher | H2: ='Girls 2 Mile'!B3 -> Sydney | I2: ='Girls 2 Mile'!C3 -> 8 | J2: ='Girls 2 Mile'!D3 -> 1231.54 | K2: 1 | L2: Droe | M2: Genevieve | N2: 8 | O2: 228.25 | P2: 1 | Q2: Newton | R2: Natalie | S2: 7 | T2: 61.64
A3: 2 | B3: ='Girls Mile'!A4 -> Newton | C3: ='Girls Mile'!B4 -> Natalie | D3: ='Girls Mile'!C4 -> 7 | E3: ='Girls Mile'!D4 -> 545.11 | F3: 2 | G3: ='Girls 2 Mile'!A4 -> Antoszewski | H3: ='Girls 2 Mile'!B4 -> Ava | I3: ='Girls 2 Mile'!C4 -> 7 | J3: ='Girls 2 Mile'!D4 -> 1243.93 | K3: 2 | L3: Buckley | M3: Ilsa | N3: 8 | O3: 232.97 | P3: 2 | Q3: Droe | R3: Genevieve | S3: 8 | T3: 63.37
A4: 3 | B4: ='Girls Mile'!A5 -> Ryan | C4: ='Girls Mile'!B5 -> Allison | D4: ='Girls Mile'!C5 -> 8 | E4: ='Girls Mile'!D5 -> 550.26 | F4: 3 | G4: ='Girls 2 Mile'!A5 -> Ryan | H4: ='Girls 2 Mile'!B5 -> Allison | I4: ='Girls 2 Mile'!C5 -> 8 | J4: ='Girls 2 Mile'!D5 -> 1251.32 | K4: 3 | L4: Strelick | M4: Addison | N4: 7 | O4: 233.68 | P4: 3 | Q4: Strelick | R4: Addison | S4: 7 | T4: 65.07
A5: 4 | B5: ='Girls Mile'!A6 -> Mountain | C5: ='Girls Mile'!B6 -> Nora | D5: ='Girls Mile'!C6 -> 8 | E5: ='Girls Mile'!D6 -> 552.35 | F5: 4 | G5: ='Girls 2 Mile'!A6 -> Smith | H5: ='Girls 2 Mile'!B6 -> Ellie | I5: ='Girls 2 Mile'!C6 -> 8 | J5: ='Girls 2 Mile'!D6 -> 1252.07 | K5: 4 | L5: Gilberti | M5: Lucienne | N5: 8 | O5: 236.34 | P5: 4 | Q5: Hernandez | R5: Annalise | S5: 7 | T5: 65.17
A6: 5 | B6: ='Girls Mile'!A7 -> Burgbacher | C6: ='Girls Mile'!B7 -> Sydney | D6: ='Girls Mile'!C7 -> 8 | E6: ='Girls Mile'!D7 -> 552.39 | F6: 5 | G6: ='Girls 2 Mile'!A7 -> Coffman | H6: ='Girls 2 Mile'!B7 -> Margaret | I6: ='Girls 2 Mile'!C7 -> 8 | J6: ='Girls 2 Mile'!D7 -> 1252.55 | K6: 5 | L6: Schott | M6: Sienna | N6: 7 | O6: 241.42 | P6: 5 | Q6: Buckley | R6: Ilsa | S6: 8 | T6: 65.73
A7: 6 | B7: ='Girls Mile'!A8 -> Smith | C7: ='Girls Mile'!B8 -> Ellie | D7: ='Girls Mile'!C8 -> 8 | E7: ='Girls Mile'!D8 -> 552.7 | F7: 6 | G7: ='Girls 2 Mile'!A8 -> Stuart | H7: ='Girls 2 Mile'!B8 -> Raegan | I7: ='Girls 2 Mile'!C8 -> 7 | J7: ='Girls 2 Mile'!D8 -> 1327.87 | K7: 6 | L7: Smith | M7: Ellie | N7: 8 | O7: 241.55 | P7: 6 | Q7: Nelsen | R7: Vivienne | S7: 8 | T7: 67.32
A8: 7 | B8: ='Girls Mile'!A9 -> Gilberti | C8: ='Girls Mile'!B9 -> Lucy | D8: ='Girls Mile'!C9 -> 8 | E8: ='Girls Mile'!D9 -> 556.93 | F8: 7 | G8: ='Girls 2 Mile'!A9 -> Yurky | H8: ='Girls 2 Mile'!B9 -> Avalyn | I8: ='Girls 2 Mile'!C9 -> 8 | J8: ='Girls 2 Mile'!D9 -> 1331.6 | K8: 7 | L8: Mountain | M8: Nora | N8: 8 | O8: 241.79 | P8: 7 | Q8: Kreidler | R8: Vivienne | S8: 8 | T8: 67.39
A9: 8 | B9: ='Girls Mile'!A10 -> Schott | C9: ='Girls Mile'!B10 -> Sienna | D9: ='Girls Mile'!C10 -> 7 | E9: ='Girls Mile'!D10 -> 600.05 | F9: 8 | G9: ='Girls 2 Mile'!A11 -> Gilberti | H9: ='Girls 2 Mile'!B11 -> Lucienne | I9: ='Girls 2 Mile'!C11 -> 8 | J9: ='Girls 2 Mile'!D11 -> 1400.68 | K9: 8 | L9: Ryan | M9: Allison | N9: 8 | O9: 243.24 | P9: 8 | Q9: Duncan | R9: Adelaide | S9: 8 | T9: 68.32
A10: 9 | B10: ='Girls Mile'!A11 -> Antoszewski | C10: ='Girls Mile'!B11 -> Ava | D10: ='Girls Mile'!C11 -> 7 | E10: ='Girls Mile'!D11 -> 600.14 | F10: 9 | K10: 9 | L10: Husok | M10: Brooklynn | N10: 7 | O10: 244.83 | P10: 9 | Q10: Schott | R10: Sienna | S10: 7 | T10: 68.42
A11: 10 | B11: ='Girls Mile'!A12 -> Stuart | C11: ='Girls Mile'!B12 -> Raegan | D11: ='Girls Mile'!C12 -> 7 | E11: ='Girls Mile'!D12 -> 604.18 | F11: 10 | K11: 10 | L11: Stuart | M11: Raegan | N11: 7 | O11: 245.72 | P11: 10 | Q11: Husok | R11: Brooklynn | S11: 7 | T11: 68.74
A12: 11 | B12: ='Girls Mile'!A13 -> Coffman | C12: ='Girls Mile'!B13 -> Margaret | D12: ='Girls Mile'!C13 -> 8 | E12: ='Girls Mile'!D13 -> 608.34 | F12: 11 | K12: 11 | L12: Pirring | M12: Kiralay | N12: 8 | O12: 247.7 | P12: 11 | Q12: Hartshorn | R12: Aubrey | S12: 8 | T12: 69.14
A13: 12 | B13: ='Girls Mile'!A14 -> Natali | C13: ='Girls Mile'!B14 -> Taylor | D13: ='Girls Mile'!C14 -> 8 | E13: ='Girls Mile'!D14 -> 612.84 | F13: 12 | K13: 12 | L13: Hehman | M13: Molly | N13: 7 | O13: 247.85 | P13: 12 | Q13: Gilberti | R13: Lucienne | S13: 8 | T13: 69.3
A14: 13 | B14: ='Girls Mile'!A15 -> Frazer | C14: ='Girls Mile'!B15 -> Mollie | D14: ='Girls Mile'!C15 -> 7 | E14: ='Girls Mile'!D15 -> 622.2 | F14: 13 | K14: 13 | L14: Burgbacher | M14: Sydney | N14: 8 | O14: 248.43 | P14: 13 | Q14: Varlotta | R14: Natalia | S14: 7 | T14: 69.66
A15: 14 | B15: ='Girls Mile'!A16 -> Yurky | C15: ='Girls Mile'!B16 -> Avalyn | D15: ='Girls Mile'!C16 -> 8 | E15: ='Girls Mile'!D16 -> 632.51 | F15: 14 | K15: 14 | L15: Stroud | M15: Evylene | N15: 8 | O15: 249.29 | P15: 14 | Q15: Bucchi | R15: Kenzie | S15: 8 | T15: 69.68
A16: 15 | B16: ='Girls Mile'!A17 -> Hogan | C16: ='Girls Mile'!B17 -> Mira | D16: ='Girls Mile'!C17 -> 8 | E16: ='Girls Mile'!D17 -> 641.04 | F16: 15 | K16: 15 | L16: Natali | M16: Taylor | N16: 8 | O16: 250.97 | P16: 15 | Q16: Hogan | R16: Mira | S16: 8 | T16: 70.14
A17: 16 | B17: ='Girls Mile'!A18 -> Husok | C17: ='Girls Mile'!B18 -> Brooklynn | D17: ='Girls Mile'!C18 -> 7 | E17: ='Girls Mile'!D18 -> 641.74 | K17: 16 | L17: Coffman | M17: Margaret | N17: 8 | O17: 252.52 | P17: 16 | Q17: Ferguson | R17: Clara | S17: 7 | T17: 70.49
A18: 17 | B18: ='Girls Mile'!A19 -> Pirring | C18: ='Girls Mile'!B19 -> Kiralay | D18: ='Girls Mile'!C19 -> 8 | E18: ='Girls Mile'!D19 -> 650.94 | K18: 17 | L18: Antoszewski | M18: Ava | N18: 7 | O18: 253.64 | P18: 17 | Q18: Shea | R18: Ella | S18: 8 | T18: 70.69
A19: 18 | B19: ='Girls Mile'!A21 -> Byrne | C19: ='Girls Mile'!B21 -> Josie | D19: ='Girls Mile'!C21 -> 7 | E19: ='Girls Mile'!D21 -> 719.54 | G19: 2026 | K19: 18 | L19: Tonaus | M19: Roselyn | N19: 8 | O19: 253.7 | P19: 18 | Q19: Cronin | R19: Chloe | S19: 7 | T19: 70.73
A20: 19 | B20: ='Girls Mile'!A22 -> Miller | C20: ='Girls Mile'!B22 -> Claire | D20: ='Girls Mile'!C22 -> 7 | E20: ='Girls Mile'!D22 -> 930.84 | K20: 19 | L20: Yurky | M20: Avalyn | N20: 8 | O20: 255.25 | P20: 19 | Q20: Hayden | R20: Elsa | S20: 8 | T20: 71.14
A21: 20 | K21: 20 | L21: Becker | M21: Madison | N21: 7 | O21: 255.51 | P21: 20 | Q21: Pirring | R21: Kiralay | S21: 8 | T21: 71.18
A22: 21 | G22: 46133
A23: 22
A24: BOYS | B24: Mile | G24: 2 Mile | J24: BEST | L24: 800 | O24: BEST | Q24: 400 | T24: BEST
A25: 1 | B25: ='Boys Mile'!A3 -> Deitch | C25: ='Boys Mile'!B3 -> Bryson | D25: ='Boys Mile'!C3 -> 8 | E25: ='Boys Mile'!D3 -> 503.15 | F25: 1 | G25: ='Boys 2 Mile'!A3 -> Christian | H25: ='Boys 2 Mile'!B3 -> James | I25: ='Boys 2 Mile'!C3 -> 8 | J25: ='Boys 2 Mile'!D3 -> 1054.9 | K25: 1 | L25: Schorr | M25: Connor | N25: 8 | O25: 217.07 | P25: 1 | Q25: Barbour | R25: Zane | S25: 8 | T25: 56.87
A26: 2 | B26: ='Boys Mile'!A4 -> Christian | C26: ='Boys Mile'!B4 -> James | D26: ='Boys Mile'!C4 -> 8 | E26: ='Boys Mile'!D4 -> 509.69 | F26: 2 | G26: ='Boys 2 Mile'!A4 -> Deitch | H26: ='Boys 2 Mile'!B4 -> Bryson | I26: ='Boys 2 Mile'!C4 -> 8 | J26: ='Boys 2 Mile'!D4 -> 1137.49 | K26: 2 | L26: Dickert | M26: Nathan | N26: 8 | O26: 220 | P26: 2 | Q26: Dickert | R26: Nathan | S26: 8 | T26: 58
A27: 3 | B27: ='Boys Mile'!A5 -> Pathuri | C27: ='Boys Mile'!B5 -> Vinurudh Sai | D27: ='Boys Mile'!C5 -> 8 | E27: ='Boys Mile'!D5 -> 520.24 | F27: 3 | G27: ='Boys 2 Mile'!A5 -> Intini | H27: ='Boys 2 Mile'!B5 -> Ian | I27: ='Boys 2 Mile'!C5 -> 8 | J27: ='Boys 2 Mile'!D5 -> 1145.06 | K27: 3 | L27: Christian | M27: James | N27: 8 | O27: 222.9 | P27: 3 | Q27: Reyes | R27: Denis | S27: 8 | T27: 58.48
A28: 4 | B28: ='Boys Mile'!A6 -> Intini | C28: ='Boys Mile'!B6 -> Ian | D28: ='Boys Mile'!C6 -> 8 | E28: ='Boys Mile'!D6 -> 527.75 | F28: 4 | G28: ='Boys 2 Mile'!A6 -> Grabowski | H28: ='Boys 2 Mile'!B6 -> Grant | I28: ='Boys 2 Mile'!C6 -> 8 | J28: ='Boys 2 Mile'!D6 -> 1158.71 | K28: 4 | L28: Intini | M28: Ian | N28: 8 | O28: 223.34 | P28: 4 | Q28: Barbour | R28: Ellis | S28: 8 | T28: 58.63
A29: 5 | B29: ='Boys Mile'!A7 -> Peters | C29: ='Boys Mile'!B7 -> Owen | D29: ='Boys Mile'!C7 -> 8 | E29: ='Boys Mile'!D7 -> 534.64 | F29: 5 | G29: ='Boys 2 Mile'!A7 -> Kucler | H29: ='Boys 2 Mile'!B7 -> Greyson | I29: ='Boys 2 Mile'!C7 -> 8 | J29: ='Boys 2 Mile'!D7 -> 1219.61 | K29: 5 | L29: Deitch | M29: Bryson | N29: 8 | O29: 223.82 | P29: 5 | Q29: Pathuri | R29: Vinurudh Sai | S29: 8 | T29: 58.64
A30: 6 | B30: ='Boys Mile'!A8 -> Kaminski | C30: ='Boys Mile'!B8 -> Bennett | D30: ='Boys Mile'!C8 -> 7 | E30: ='Boys Mile'!D8 -> 535.24 | F30: 6 | G30: ='Boys 2 Mile'!A8 -> Paylo | H30: ='Boys 2 Mile'!B8 -> James | I30: ='Boys 2 Mile'!C8 -> 7 | J30: ='Boys 2 Mile'!D8 -> 1248.09 | K30: 6 | L30: O'Keefe | M30: Colin | N30: 7 | O30: 224.5 | P30: 6 | Q30: Schorr | R30: Connor | S30: 8 | T30: 59.71
A31: 7 | B31: ='Boys Mile'!A9 -> Grabowski | C31: ='Boys Mile'!B9 -> Grant | D31: ='Boys Mile'!C9 -> 8 | E31: ='Boys Mile'!D9 -> 535.94 | F31: 7 | G31: ='Boys 2 Mile'!A9 -> Stern | H31: ='Boys 2 Mile'!B9 -> Andrei | I31: ='Boys 2 Mile'!C9 -> 7 | J31: ='Boys 2 Mile'!D9 -> 1255.94 | K31: 7 | L31: Reyes | M31: Denis | N31: 8 | O31: 227.46 | P31: 7 | Q31: Goheen | R31: Hank | S31: 8 | T31: 60.02
A32: 8 | B32: ='Boys Mile'!A10 -> Schomburg | C32: ='Boys Mile'!B10 -> Gavin | D32: ='Boys Mile'!C10 -> 8 | E32: ='Boys Mile'!D10 -> 537.97 | F32: 8 | G32: ='Boys 2 Mile'!A10 -> Tseng | H32: ='Boys 2 Mile'!B10 -> Gabriel | I32: ='Boys 2 Mile'!C10 -> 7 | J32: ='Boys 2 Mile'!D10 -> 1302.74 | K32: 8 | L32: Schomburg | M32: Gavin | N32: 8 | O32: 227.58 | P32: 8 | Q32: Kikel | R32: Andrew | S32: 8 | T32: 61.22
A33: 9 | B33: ='Boys Mile'!A11 -> Paylo | C33: ='Boys Mile'!B11 -> James | D33: ='Boys Mile'!C11 -> 7 | E33: ='Boys Mile'!D11 -> 539.24 | F33: 9 | G33: ='Boys 2 Mile'!A11 -> Webber-Plank | H33: ='Boys 2 Mile'!B11 -> Andrew | I33: ='Boys 2 Mile'!C11 -> 7 | J33: ='Boys 2 Mile'!D11 -> 1303.95 | K33: 9 | L33: Grabowski | M33: Grant | N33: 8 | O33: 232.1 | P33: 9 | Q33: Mancuso | R33: Gabe | S33: 8 | T33: 62.21
A34: 10 | B34: ='Boys Mile'!A12 -> Thearle | C34: ='Boys Mile'!B12 -> Bennett | D34: ='Boys Mile'!C12 -> 8 | E34: ='Boys Mile'!D12 -> 545.41 | F34: 10 | G34: ='Boys 2 Mile'!A12 -> Houser | H34: ='Boys 2 Mile'!B12 -> Drew | I34: ='Boys 2 Mile'!C12 -> 7 | J34: ='Boys 2 Mile'!D12 -> 1331.64 | K34: 10 | L34: Peters | M34: Owen | N34: 8 | O34: 233.35 | P34: 10 | Q34: Inukurthi | R34: Harshik Sai | S34: 7 | T34: 63.24
A35: 11 | B35: ='Boys Mile'!A13 -> Kozelnik | C35: ='Boys Mile'!B13 -> Fletcher | D35: ='Boys Mile'!C13 -> 7 | E35: ='Boys Mile'!D13 -> 546.63 | F35: 11 | G35: ='Boys 2 Mile'!A13 -> Thottempudi | H35: ='Boys 2 Mile'!B13 -> Moksh | I35: ='Boys 2 Mile'!C13 -> 8 | J35: ='Boys 2 Mile'!D13 -> 1558.34 | K35: 11 | L35: Kucler | M35: Greyson | N35: 8 | O35: 234.42 | P35: 11 | Q35: Oakes | R35: Brody | S35: 8 | T35: 63.6
A36: 12 | B36: ='Boys Mile'!A14 -> Kucler | C36: ='Boys Mile'!B14 -> Greyson | D36: ='Boys Mile'!C14 -> 8 | E36: ='Boys Mile'!D14 -> 548.24 | F36: 12 | G36: ='Boys 2 Mile'!A14 -> Malapaka | H36: ='Boys 2 Mile'!B14 -> Saibhargav | I36: ='Boys 2 Mile'!C14 -> 7 | J36: ='Boys 2 Mile'!D14 -> 1625.54 | K36: 12 | L36: Mancuso | M36: Gabe | N36: 8 | O36: 234.97 | P36: 12 | Q36: Angelopoulos | R36: Luca | S36: 8 | T36: 64.47
A37: 13 | B37: ='Boys Mile'!A15 -> Stern | C37: ='Boys Mile'!B15 -> Andrei | D37: ='Boys Mile'!C15 -> 7 | E37: ='Boys Mile'!D15 -> 548.41 | F37: 13 | K37: 13 | L37: Kaminski | M37: Bennett | N37: 7 | O37: 237.25 | P37: 13 | Q37: Intini | R37: Ian | S37: 8 | T37: 65.33
A38: 14 | B38: ='Boys Mile'!A16 -> Houser | C38: ='Boys Mile'!B16 -> Drew | D38: ='Boys Mile'!C16 -> 7 | E38: ='Boys Mile'!D16 -> 549.29 | F38: 14 | K38: 14 | L38: Handron | M38: Conor | N38: 7 | O38: 241.36 | P38: 14 | Q38: Pisarski | R38: Troy | S38: 8 | T38: 65.55
A39: 15 | B39: ='Boys Mile'!A17 -> Handron | C39: ='Boys Mile'!B17 -> Canor | D39: ='Boys Mile'!C17 -> 7 | E39: ='Boys Mile'!D17 -> 557.24 | F39: 15 | K39: 15 | L39: Thearle | M39: Bennett | N39: 8 | O39: 242.04 | P39: 15 | Q39: Deitch | R39: Bryson | S39: 8 | T39: 65.98
A40: 16 | B40: ='Boys Mile'!A18 -> Moschetta | C40: ='Boys Mile'!B18 -> William | D40: ='Boys Mile'!C18 -> 7 | E40: ='Boys Mile'!D18 -> 558.92 | F40: 16 | K40: 16 | L40: Rainey | M40: Shepard | N40: 7 | O40: 242.2 | P40: 16 | Q40: Thearle | R40: Bennett | S40: 8 | T40: 66.01
A41: 17 | B41: ='Boys Mile'!A19 -> Palled | C41: ='Boys Mile'!B19 -> Navik | D41: ='Boys Mile'!C19 -> 8 | E41: ='Boys Mile'!D19 -> 604.06 | F41: 17 | K41: 17 | L41: Kozelnik | M41: Fletcher | N41: 7 | O41: 244.95 | P41: 17 | Q41: Schomburg | R41: Gavin | S41: 8 | T41: 66.54
A42: 18 | B42: ='Boys Mile'!A20 -> Webber-Plank | C42: ='Boys Mile'!B20 -> Andrew | D42: ='Boys Mile'!C20 -> 7 | E42: ='Boys Mile'!D20 -> 605.2 | F42: 18 | K42: 18 | L42: Stern | M42: Andrei | N42: 7 | O42: 244.98 | P42: 18 | Q42: Culp | R42: Landon | S42: 8 | T42: 66.83
A43: 19 | B43: ='Boys Mile'!A21 -> McManus | C43: ='Boys Mile'!B21 -> Jasper | D43: ='Boys Mile'!C21 -> 8 | E43: ='Boys Mile'!D21 -> 606.65 | K43: 19 | L43: Li | M43: Xin | N43: 8 | O43: 246.74 | P43: 19 | Q43: Bradshaw | R43: Grant | S43: 7 | T43: 67.67
A44: 20 | B44: ='Boys Mile'!A22 -> Tseng | C44: ='Boys Mile'!B22 -> Gabriel | D44: ='Boys Mile'!C22 -> 7 | E44: ='Boys Mile'!D22 -> 607.37 | K44: 20 | L44: Paylo | M44: James | N44: 7 | O44: 247.15 | P44: 20 | Q44: Sam | R44: Dean | S44: 8 | T44: 68.44
A45: 21 | B45: ='Boys Mile'!A23 -> Theys | C45: ='Boys Mile'!B23 -> Lincoln | D45: ='Boys Mile'!C23 -> 7 | E45: ='Boys Mile'!D23 -> 624.57
A46: 22 | B46: ='Boys Mile'!A24 -> Li | C46: ='Boys Mile'!B24 -> Xin | D46: ='Boys Mile'!C24 -> 8 | E46: ='Boys Mile'!D24 -> 634.26
A47: 23 | B47: ='Boys Mile'!A25 -> Thottempudi | C47: ='Boys Mile'!B25 -> Moksh | D47: ='Boys Mile'!C25 -> 8 | E47: ='Boys Mile'!D25 -> 659.04
A48: 24 | B48: ='Boys Mile'!A26 -> Kitzes | C48: ='Boys Mile'!B26 -> Eli | D48: ='Boys Mile'!C26 -> 7 | E48: ='Boys Mile'!D26 -> 733.74
A49: 25 | B49: ='Boys Mile'!A27 -> West | C49: ='Boys Mile'!B27 -> Nolan | D49: ='Boys Mile'!C27 -> 7 | E49: ='Boys Mile'!D27 -> 824.24

Sheet Sheet1
A1: Newton | B1: Natalie | C1: 7 | D1: 61.64
A2: Droe | B2: Genevieve | C2: 8 | D2: 63.37
A3: Strelick | B3: Addison | C3: 7 | D3: 65.07
A4: Hernandez | B4: Annalise | C4: 7 | D4: 65.17
A5: Buckley | B5: Ilsa | C5: 8 | D5: 65.73
A6: Nelsen | B6: Vivienne | C6: 8 | D6: 67.32
A7: Kreidler | B7: Vivienne | C7: 8 | D7: 67.39
A8: Duncan | B8: Adelaide | C8: 8 | D8: 68.32
A9: Schott | B9: Sienna | C9: 7 | D9: 68.42
A10: Husok | B10: Brooklynn | C10: 7 | D10: 68.74
A11: Hartshorn | B11: Aubrey | C11: 8 | D11: 69.14
A12: Gilberti | B12: Lucienne | C12: 8 | D12: 69.3
... A20: Pirring | B20: Kiralay | C20: 8 | D20: 71.18
